{"text_format":"3","workbook":"xlsx","n_sheets":12,"sheets":["Summary and Instructions","Summary Page","Employment Specialist 1","Employment Specialist 2","Employment Specialist 3","Employment Specialist 4","Employment Specialist 5","Employment Specialist 6","Employment Specialist 7","Employment Specialist 8","Employment Specialist 9","Employment Specialist 10"],"not_rendered":{"images":1},"read":"whole","date_system":"1900"}

{"sheet":"Summary and Instructions","index":0,"n_rows":3,"n_cols":1,"rows_kept":3,"merged":[[0,0,0,16383],[2,0,42,15]]}
[]
[]
["Introduction:\nThis tool has been developed to help Oregon IPS sites systematically track their community-based community services hours and get picutre of how much time IPS specialists are spending in the community supporting clients. With this tool, IPS specialists can track their weekly community time over 12 week periods, and review it with their supervisor in weekly supervison to assess, reflect, and set goals to hit IPS service and fidelity goals. If you want to reuse this tool to track data over more than one quarter, please do so! Simply make a copy of the spreadsheet and remove any data to start fresh. \n\nThis tool directly corresponds to IPS Fidelity item 3.13 Community-Based Services. Fidelity review note: while you may use this tool to track your community hours, it is not a subsititue for IPS specialist calendars. Please come prepared to share three weeks of IPS specialist calendars with clearly marked community time during your annual fidelity review. \n\nIf you have any questions, or spot an error, please reach out to OSECE Statewide IPS Trainer & Fidelity Assessor, Katie Shammel at kshammel@pdx.edu. \n\nInstructions: \nPlease only fill in data in the cells highlighted in yellow. Other cells contain formulas that will calcuate values based on the data you report in the yellow cells. This tool has two different types of pages: the Summary Page (tab 2), and Employment Specialist Logs (tabs 3-12). If a cell is missing data, it will likely have the #DIV/0! error message. This is normal if you have not yet filled out the data. \n\nSummary Page\nThe summary page is designed for IPS sites to see what percent of time the IPS team is spending in the community. Fill in the columns including: agency name, number of IPS specialists on staff, date(s), and the names of your employment specialists on staff. This sheet allows for up to 10 Employment Specialists on staff. You are not expected to have 10, and any calculations in this sheet will not be impacted by number of specialists on staff. \n\nEmployment Specialist Logs\n• Each employment specialist (regardless of FTE) gets their own employment log tab.\n• Record what week these hours are covering (e.g, 2/9/26 - 2/13/26)\n• Employment Specialists should fill out the number of hours they worked for each week. This means that even if an employee was scheduled to work, or was paid for work (e.g., paid sick or vacation leave), please only fill out the number of hours they actually worked per work day. This ensures that all community hours are effectively prorated. \n• After you fill in how many hours you worked/will work that week, fill in how many hours you spent in the community each day. Remember: travel time to and from community spaces to community time counts as community time!\n• If you report more total hours than the amount of hours you worked (as reported in row 9), the total hours cell will highlight in red to indicate something needs review. \n• At the bottom of the page, you will be able to see what percent of your time was spent in the community over however many weeks you have reported on. Note: the formulas included in this sheet will not be affected if you have not yet filled out the entire 12-week period. \n\n"]

{"sheet":"Summary Page","index":1,"n_rows":17,"n_cols":8,"rows_kept":17,"merged":[[1,1,1,4],[2,1,2,4],[3,0,4,0],[3,1,4,4],[6,1,6,2],[7,1,7,2],[7,4,7,6],[8,1,8,2],[8,4,8,6],[9,1,9,2],[10,1,10,2],[11,1,11,2],[11,4,11,9],[12,1,12,2],[12,5,12,9],[13,1,13,2],[13,5,13,9],[14,1,14,2],[14,5,14,9],[15,1,15,2],[15,5,15,9],[16,1,16,2],[16,5,16,9]]}
[]
["Agency Name:"]
["Number of Supported Employment Specialists on staff:"]
["Dates this 12-week tracker covers:"]
[]
[]
["Supported Employment Specialist ","% of time spent in the community to date"]
["Supported Employment Specialist 1: [Name]",{"$f":"SUM('Employment Specialist 1'!C21)","v":{"$error":"#DIV/0!"}},null,null,"IPS Team average % time spent in the community",null,null,{"$f":"_xlfn.AGGREGATE(1,6,B8:C17)","v":{"$error":"#DIV/0!"}}]
["Supported Employment Specialist 2: [Name]",{"$f":"SUM('Employment Specialist 2'!C21)","v":{"$error":"#DIV/0!"}},null,null,"Score:",null,null,{"$f":"_xlfn.IFS(H8>=0.65, 5, H8>=0.5, 4, H8>=0.4, 3, H8>0.3, 2, TRUE, 1)","v":{"$error":"#DIV/0!"}}]
["Supported Employment Specialist 3: [Name]",{"$f":"SUM('Employment Specialist 3'!C21)","v":{"$error":"#DIV/0!"}}]
["Supported Employment Specialist 4: [Name]",{"$f":"SUM('Employment Specialist 4'!C21)","v":{"$error":"#DIV/0!"}}]
["Supported Employment Specialist 5: [Name]",{"$f":"SUM('Employment Specialist 5'!C21)","v":{"$error":"#DIV/0!"}},null,null,"IPS Fidelity Scoring Rubric"]
["Supported Employment Specialist 6: [Name]",{"$f":"SUM('Employment Specialist 6'!C21)","v":{"$error":"#DIV/0!"}},null,null,5,"65% or more of total scheduled hours conducting community hours"]
["Supported Employment Specialist 7: [Name]",{"$f":"SUM('Employment Specialist 7'!C21)","v":{"$error":"#DIV/0!"}},null,null,4,"50-65% of total scheduled hours conducting community hours"]
["Supported Employment Specialist 8: [Name]",{"$f":"SUM('Employment Specialist 8'!C21)","v":{"$error":"#DIV/0!"}},null,null,3,"40-49% of total scheduled hours conducting community hours"]
["Supported Employment Specialist 9: [Name]",{"$f":"SUM('Employment Specialist 9'!C21)","v":{"$error":"#DIV/0!"}},null,null,2,"31-39% of total scheduled hours conducting community hours"]
["Supported Employment Specialist 10: [Name]",{"$f":"SUM('Employment Specialist 10'!C21)","v":{"$error":"#DIV/0!"}},null,null,1,"30% or less of total scheduled hours conducting community hours"]

{"sheet":"Employment Specialist 1","index":2,"n_rows":22,"n_cols":46,"rows_kept":22,"merged":[[2,0,2,1],[2,2,2,6],[6,0,6,2],[6,4,6,6],[6,8,6,10],[6,12,6,14],[6,16,6,18],[6,20,6,22],[6,24,6,26],[6,28,6,30],[6,32,6,34],[6,36,6,38],[6,40,6,42],[6,44,6,46],[7,1,7,2],[7,5,7,6],[7,9,7,10],[7,13,7,14],[7,17,7,18],[7,21,7,22],[7,25,7,26],[7,29,7,30],[7,33,7,34],[7,37,7,38],[7,41,7,42],[7,45,7,46],[8,0,8,1],[8,4,8,5],[8,8,8,9],[8,12,8,13],[8,16,8,17],[8,20,8,21],[8,24,8,25],[8,28,8,29],[8,32,8,33],[8,36,8,37],[8,40,8,41],[8,44,8,45],[9,0,9,2],[9,4,9,6],[9,8,9,10],[9,12,9,14],[9,16,9,18],[9,20,9,22],[9,24,9,26],[9,28,9,30],[9,32,9,34],[9,36,9,38],[9,40,9,42],[9,44,9,46],[10,1,10,2],[10,5,10,6],[10,9,10,10],[10,13,10,14],[10,17,10,18],[10,21,10,22],[10,25,10,26],[10,29,10,30],[10,33,10,34],[10,37,10,38],[10,41,10,42],[10,45,10,46],[11,1,11,2],[11,5,11,6],[11,9,11,10],[11,13,11,14],[11,17,11,18],[11,21,11,22],[11,25,11,26],[11,29,11,30],[11,33,11,34],[11,37,11,38],[11,41,11,42],[11,45,11,46],[12,1,12,2],[12,5,12,6],[12,9,12,10],[12,13,12,14],[12,17,12,18],[12,21,12,22],[12,25,12,26],[12,29,12,30],[12,33,12,34],[12,37,12,38],[12,41,12,42],[12,45,12,46],[13,1,13,2],[13,5,13,6],[13,9,13,10],[13,13,13,14],[13,17,13,18],[13,21,13,22],[13,25,13,26],[13,29,13,30],[13,33,13,34],[13,37,13,38],[13,41,13,42],[13,45,13,46],[14,1,14,2],[14,5,14,6],[14,9,14,10],[14,13,14,14],[14,17,14,18],[14,21,14,22],[14,25,14,26],[14,29,14,30],[14,33,14,34],[14,37,14,38],[14,41,14,42],[14,45,14,46],[15,1,15,2],[15,5,15,6],[15,9,15,10],[15,13,15,14],[15,17,15,18],[15,21,15,22],[15,25,15,26],[15,29,15,30],[15,33,15,34],[15,37,15,38],[15,41,15,42],[15,45,15,46],[16,0,17,0],[16,1,17,2],[16,4,17,4],[16,5,17,6],[16,8,17,8],[16,9,17,10],[16,12,17,12],[16,13,17,14],[16,16,17,16],[16,17,17,18],[16,20,17,20],[16,21,17,22],[16,24,17,24],[16,25,17,26],[16,28,17,28],[16,29,17,30],[16,32,17,32],[16,33,17,34],[16,36,17,36],[16,37,17,38],[16,40,17,40],[16,41,17,42],[16,44,17,44],[16,45,17,46],[20,0,20,1],[21,0,25,2]]}
[]
[]
["Employment Specialist Name: "]
[]
[]
[]
["Week 1",{"$nulls":3},"Week 2",{"$nulls":3},"Week 3",{"$nulls":3},"Week 4",{"$nulls":3},"Week 5",{"$nulls":3},"Week 6",{"$nulls":3},"Week 7",{"$nulls":3},"Week 8",{"$nulls":3},"Week 9",{"$nulls":3},"Week 10",{"$nulls":3},"Week 11",{"$nulls":3},"Week 12"]
["Dates:",{"$nulls":3},"Dates:",{"$nulls":3},"Dates:",{"$nulls":3},"Dates:",{"$nulls":3},"Dates:",{"$nulls":3},"Dates:",{"$nulls":3},"Dates:",{"$nulls":3},"Dates:",{"$nulls":3},"Dates:",{"$nulls":3},"Dates:",{"$nulls":3},"Dates:",{"$nulls":3},"Dates:"]
["Number of working hours this week:",{"$nulls":3},"Number of working hours this week:",{"$nulls":3},"Number of working hours this week:",{"$nulls":3},"Number of working hours this week:",{"$nulls":3},"Number of working hours this week:",{"$nulls":3},"Number of working hours this week:",{"$nulls":3},"Number of working hours this week:",{"$nulls":3},"Number of working hours this week:",{"$nulls":3},"Number of working hours this week:",{"$nulls":3},"Number of working hours this week:",{"$nulls":3},"Number of working hours this week:",{"$nulls":3},"Number of working hours this week:"]
["Community hours conducted",{"$nulls":3},"Community hours conducted",{"$nulls":3},"Community hours conducted",{"$nulls":3},"Community hours conducted",{"$nulls":3},"Community hours conducted",{"$nulls":3},"Community hours conducted",{"$nulls":3},"Community hours conducted",{"$nulls":3},"Community hours conducted",{"$nulls":3},"Community hours conducted",{"$nulls":3},"Community hours conducted",{"$nulls":3},"Community hours conducted",{"$nulls":3},"Community hours conducted"]
["Monday",{"$nulls":3},"Monday",{"$nulls":3},"Monday",{"$nulls":3},"Monday",{"$nulls":3},"Monday",{"$nulls":3},"Monday",{"$nulls":3},"Monday",{"$nulls":3},"Monday",{"$nulls":3},"Monday",{"$nulls":3},"Monday",{"$nulls":3},"Monday",{"$nulls":3},"Monday"]
["Tuesday",{"$nulls":3},"Tuesday",{"$nulls":3},"Tuesday",{"$nulls":3},"Tuesday",{"$nulls":3},"Tuesday",{"$nulls":3},"Tuesday",{"$nulls":3},"Tuesday",{"$nulls":3},"Tuesday",{"$nulls":3},"Tuesday",{"$nulls":3},"Tuesday",{"$nulls":3},"Tuesday",{"$nulls":3},"Tuesday"]
["Wednesday ",{"$nulls":3},"Wednesday ",{"$nulls":3},"Wednesday ",{"$nulls":3},"Wednesday ",{"$nulls":3},"Wednesday ",{"$nulls":3},"Wednesday ",{"$nulls":3},"Wednesday ",{"$nulls":3},"Wednesday ",{"$nulls":3},"Wednesday ",{"$nulls":3},"Wednesday ",{"$nulls":3},"Wednesday ",{"$nulls":3},"Wednesday "]
["Thursday",{"$nulls":3},"Thursday",{"$nulls":3},"Thursday",{"$nulls":3},"Thursday",{"$nulls":3},"Thursday",{"$nulls":3},"Thursday",{"$nulls":3},"Thursday",{"$nulls":3},"Thursday",{"$nulls":3},"Thursday",{"$nulls":3},"Thursday",{"$nulls":3},"Thursday",{"$nulls":3},"Thursday"]
["Friday",{"$nulls":3},"Friday",{"$nulls":3},"Friday",{"$nulls":3},"Friday",{"$nulls":3},"Friday",{"$nulls":3},"Friday",{"$nulls":3},"Friday",{"$nulls":3},"Friday",{"$nulls":3},"Friday",{"$nulls":3},"Friday",{"$nulls":3},"Friday",{"$nulls":3},"Friday"]
["Total hours",{"$f":"SUM(B11:B15)","v":0},null,null,"Total hours",{"$f":"SUM(F11:F15)","v":0},null,null,"Total hours",{"$f":"SUM(J11:K15)","v":0},null,null,"Total hours",{"$f":"SUM(N11:O15)","v":0},null,null,"Total hours",{"$f":"SUM(R11:S15)","v":0},null,null,"Total hours",{"$f":"SUM(V11:W15)","v":0},null,null,"Total hours",{"$f":"SUM(Z11:AA15)","v":0},null,null,"Total hours",{"$f":"SUM(AD11:AE15)","v":0},null,null,"Total hours",{"$f":"SUM(AH11:AI15)","v":0},null,null,"Total hours",{"$f":"SUM(AL11:AM15)","v":0},null,null,"Total hours",{"$f":"SUM(AP11:AQ15)","v":0},null,null,"Total hours",{"$f":"SUM(AT11:AU15)","v":0}]
["% of time in community",{"$f":"SUM(B16/C9)","v":{"$error":"#DIV/0!"}},null,null,"% of time in community",{"$f":"SUM(F16/G9)","v":{"$error":"#DIV/0!"}},null,null,"% of time in community",{"$f":"SUM(J16/K9)","v":{"$error":"#DIV/0!"}},null,null,"% of time in community",{"$f":"SUM(N16/O9)","v":{"$error":"#DIV/0!"}},null,null,"% of time in community",{"$f":"SUM(R16/S9)","v":{"$error":"#DIV/0!"}},null,null,"% of time in community",{"$f":"SUM(V16/W9)","v":{"$error":"#DIV/0!"}},null,null,"% of time in community",{"$f":"SUM(Z16/AA9)","v":{"$error":"#DIV/0!"}},null,null,"% of time in community",{"$f":"SUM(AD16/AE9)","v":{"$error":"#DIV/0!"}},null,null,"% of time in community",{"$f":"SUM(AH16/AI9)","v":{"$error":"#DIV/0!"}},null,null,"% of time in community",{"$f":"SUM(AL16/AM9)","v":{"$error":"#DIV/0!"}},null,null,"% of time in community",{"$f":"SUM(AP16/AQ9)","v":{"$error":"#DIV/0!"}},null,null,"% of time in community",{"$f":"SUM(AT16/AU9)","v":{"$error":"#DIV/0!"}}]
[]
[]
[]
["Total Average time spent in the  community based on the weeks filled out",null,{"$f":"_xlfn.AGGREGATE(1,6,B17:AT17)","v":{"$error":"#DIV/0!"}}]
["Note: the above calculation will be impacted by any of the numbers put in the data entry cells above. Make sure that all data above is accurate before referencing to the final percentage "]

{"sheet":"Employment Specialist 2","index":3,"n_rows":22,"n_cols":46,"rows_kept":22,"merged":[[2,0,2,1],[2,2,2,6],[6,0,6,2],[6,4,6,6],[6,8,6,10],[6,12,6,14],[6,16,6,18],[6,20,6,22],[6,24,6,26],[6,28,6,30],[6,32,6,34],[6,36,6,38],[6,40,6,42],[6,44,6,46],[7,1,7,2],[7,5,7,6],[7,9,7,10],[7,13,7,14],[7,17,7,18],[7,21,7,22],[7,25,7,26],[7,29,7,30],[7,33,7,34],[7,37,7,38],[7,41,7,42],[7,45,7,46],[8,0,8,1],[8,4,8,5],[8,8,8,9],[8,12,8,13],[8,16,8,17],[8,20,8,21],[8,24,8,25],[8,28,8,29],[8,32,8,33],[8,36,8,37],[8,40,8,41],[8,44,8,45],[9,0,9,2],[9,4,9,6],[9,8,9,10],[9,12,9,14],[9,16,9,18],[9,20,9,22],[9,24,9,26],[9,28,9,30],[9,32,9,34],[9,36,9,38],[9,40,9,42],[9,44,9,46],[10,1,10,2],[10,5,10,6],[10,9,10,10],[10,13,10,14],[10,17,10,18],[10,21,10,22],[10,25,10,26],[10,29,10,30],[10,33,10,34],[10,37,10,38],[10,41,10,42],[10,45,10,46],[11,1,11,2],[11,5,11,6],[11,9,11,10],[11,13,11,14],[11,17,11,18],[11,21,11,22],[11,25,11,26],[11,29,11,30],[11,33,11,34],[11,37,11,38],[11,41,11,42],[11,45,11,46],[12,1,12,2],[12,5,12,6],[12,9,12,10],[12,13,12,14],[12,17,12,18],[12,21,12,22],[12,25,12,26],[12,29,12,30],[12,33,12,34],[12,37,12,38],[12,41,12,42],[12,45,12,46],[13,1,13,2],[13,5,13,6],[13,9,13,10],[13,13,13,14],[13,17,13,18],[13,21,13,22],[13,25,13,26],[13,29,13,30],[13,33,13,34],[13,37,13,38],[13,41,13,42],[13,45,13,46],[14,1,14,2],[14,5,14,6],[14,9,14,10],[14,13,14,14],[14,17,14,18],[14,21,14,22],[14,25,14,26],[14,29,14,30],[14,33,14,34],[14,37,14,38],[14,41,14,42],[14,45,14,46],[15,1,15,2],[15,5,15,6],[15,9,15,10],[15,13,15,14],[15,17,15,18],[15,21,15,22],[15,25,15,26],[15,29,15,30],[15,33,15,34],[15,37,15,38],[15,41,15,42],[15,45,15,46],[16,0,17,0],[16,1,17,2],[16,4,17,4],[16,5,17,6],[16,8,17,8],[16,9,17,10],[16,12,17,12],[16,13,17,14],[16,16,17,16],[16,17,17,18],[16,20,17,20],[16,21,17,22],[16,24,17,24],[16,25,17,26],[16,28,17,28],[16,29,17,30],[16,32,17,32],[16,33,17,34],[16,36,17,36],[16,37,17,38],[16,40,17,40],[16,41,17,42],[16,44,17,44],[16,45,17,46],[20,0,20,1],[21,0,25,2]]}
[]
[]
["Employment Specialist Name: "]
[]
[]
[]
["Week 1",{"$nulls":3},"Week 2",{"$nulls":3},"Week 3",{"$nulls":3},"Week 4",{"$nulls":3},"Week 5",{"$nulls":3},"Week 6",{"$nulls":3},"Week 7",{"$nulls":3},"Week 8",{"$nulls":3},"Week 9",{"$nulls":3},"Week 10",{"$nulls":3},"Week 11",{"$nulls":3},"Week 12"]
["Dates:",{"$nulls":3},"Dates:",{"$nulls":3},"Dates:",{"$nulls":3},"Dates:",{"$nulls":3},"Dates:",{"$nulls":3},"Dates:",{"$nulls":3},"Dates:",{"$nulls":3},"Dates:",{"$nulls":3},"Dates:",{"$nulls":3},"Dates:",{"$nulls":3},"Dates:",{"$nulls":3},"Dates:"]
["Number of working hours this week:",{"$nulls":3},"Number of working hours this week:",{"$nulls":3},"Number of working hours this week:",{"$nulls":3},"Number of working hours this week:",{"$nulls":3},"Number of working hours this week:",{"$nulls":3},"Number of working hours this week:",{"$nulls":3},"Number of working hours this week:",{"$nulls":3},"Number of working hours this week:",{"$nulls":3},"Number of working hours this week:",{"$nulls":3},"Number of working hours this week:",{"$nulls":3},"Number of working hours this week:",{"$nulls":3},"Number of working hours this week:"]
["Community hours conducted",{"$nulls":3},"Community hours conducted",{"$nulls":3},"Community hours conducted",{"$nulls":3},"Community hours conducted",{"$nulls":3},"Community hours conducted",{"$nulls":3},"Community hours conducted",{"$nulls":3},"Community hours conducted",{"$nulls":3},"Community hours conducted",{"$nulls":3},"Community hours conducted",{"$nulls":3},"Community hours conducted",{"$nulls":3},"Community hours conducted",{"$nulls":3},"Community hours conducted"]
["Monday",{"$nulls":3},"Monday",{"$nulls":3},"Monday",{"$nulls":3},"Monday",{"$nulls":3},"Monday",{"$nulls":3},"Monday",{"$nulls":3},"Monday",{"$nulls":3},"Monday",{"$nulls":3},"Monday",{"$nulls":3},"Monday",{"$nulls":3},"Monday",{"$nulls":3},"Monday"]
["Tuesday",{"$nulls":3},"Tuesday",{"$nulls":3},"Tuesday",{"$nulls":3},"Tuesday",{"$nulls":3},"Tuesday",{"$nulls":3},"Tuesday",{"$nulls":3},"Tuesday",{"$nulls":3},"Tuesday",{"$nulls":3},"Tuesday",{"$nulls":3},"Tuesday",{"$nulls":3},"Tuesday",{"$nulls":3},"Tuesday"]
["Wednesday ",{"$nulls":3},"Wednesday ",{"$nulls":3},"Wednesday ",{"$nulls":3},"Wednesday ",{"$nulls":3},"Wednesday ",{"$nulls":3},"Wednesday ",{"$nulls":3},"Wednesday ",{"$nulls":3},"Wednesday ",{"$nulls":3},"Wednesday ",{"$nulls":3},"Wednesday ",{"$nulls":3},"Wednesday ",{"$nulls":3},"Wednesday "]
["Thursday",{"$nulls":3},"Thursday",{"$nulls":3},"Thursday",{"$nulls":3},"Thursday",{"$nulls":3},"Thursday",{"$nulls":3},"Thursday",{"$nulls":3},"Thursday",{"$nulls":3},"Thursday",{"$nulls":3},"Thursday",{"$nulls":3},"Thursday",{"$nulls":3},"Thursday",{"$nulls":3},"Thursday"]
["Friday",{"$nulls":3},"Friday",{"$nulls":3},"Friday",{"$nulls":3},"Friday",{"$nulls":3},"Friday",{"$nulls":3},"Friday",{"$nulls":3},"Friday",{"$nulls":3},"Friday",{"$nulls":3},"Friday",{"$nulls":3},"Friday",{"$nulls":3},"Friday",{"$nulls":3},"Friday"]
["Total hours",{"$f":"SUM(B11:B15)","v":0},null,null,"Total hours",{"$f":"SUM(F11:F15)","v":0},null,null,"Total hours",{"$f":"SUM(J11:K15)","v":0},null,null,"Total hours",{"$f":"SUM(N11:O15)","v":0},null,null,"Total hours",{"$f":"SUM(R11:S15)","v":0},null,null,"Total hours",{"$f":"SUM(V11:W15)","v":0},null,null,"Total hours",{"$f":"SUM(Z11:AA15)","v":0},null,null,"Total hours",{"$f":"SUM(AD11:AE15)","v":0},null,null,"Total hours",{"$f":"SUM(AH11:AI15)","v":0},null,null,"Total hours",{"$f":"SUM(AL11:AM15)","v":0},null,null,"Total hours",{"$f":"SUM(AP11:AQ15)","v":0},null,null,"Total hours",{"$f":"SUM(AT11:AU15)","v":0}]
["% of time in community",{"$f":"SUM(B16/C9)","v":{"$error":"#DIV/0!"}},null,null,"% of time in community",{"$f":"SUM(F16/G9)","v":{"$error":"#DIV/0!"}},null,null,"% of time in community",{"$f":"SUM(J16/K9)","v":{"$error":"#DIV/0!"}},null,null,"% of time in community",{"$f":"SUM(N16/O9)","v":{"$error":"#DIV/0!"}},null,null,"% of time in community",{"$f":"SUM(R16/S9)","v":{"$error":"#DIV/0!"}},null,null,"% of time in community",{"$f":"SUM(V16/W9)","v":{"$error":"#DIV/0!"}},null,null,"% of time in community",{"$f":"SUM(Z16/AA9)","v":{"$error":"#DIV/0!"}},null,null,"% of time in community",{"$f":"SUM(AD16/AE9)","v":{"$error":"#DIV/0!"}},null,null,"% of time in community",{"$f":"SUM(AH16/AI9)","v":{"$error":"#DIV/0!"}},null,null,"% of time in community",{"$f":"SUM(AL16/AM9)","v":{"$error":"#DIV/0!"}},null,null,"% of time in community",{"$f":"SUM(AP16/AQ9)","v":{"$error":"#DIV/0!"}},null,null,"% of time in community",{"$f":"SUM(AT16/AU9)","v":{"$error":"#DIV/0!"}}]
[]
[]
[]
["Total Average time spent in the  community based on the weeks filled out",null,{"$f":"_xlfn.AGGREGATE(1,6,B17:AT17)","v":{"$error":"#DIV/0!"}}]
["Note: the above calculation will be impacted by any of the numbers put in the data entry cells above. Make sure that all data above is accurate before referencing to the final percentage "]

{"sheet":"Employment Specialist 3","index":4,"n_rows":22,"n_cols":46,"rows_kept":22,"merged":[[2,0,2,1],[2,2,2,6],[6,0,6,2],[6,4,6,6],[6,8,6,10],[6,12,6,14],[6,16,6,18],[6,20,6,22],[6,24,6,26],[6,28,6,30],[6,32,6,34],[6,36,6,38],[6,40,6,42],[6,44,6,46],[7,1,7,2],[7,5,7,6],[7,9,7,10],[7,13,7,14],[7,17,7,18],[7,21,7,22],[7,25,7,26],[7,29,7,30],[7,33,7,34],[7,37,7,38],[7,41,7,42],[7,45,7,46],[8,0,8,1],[8,4,8,5],[8,8,8,9],[8,12,8,13],[8,16,8,17],[8,20,8,21],[8,24,8,25],[8,28,8,29],[8,32,8,33],[8,36,8,37],[8,40,8,41],[8,44,8,45],[9,0,9,2],[9,4,9,6],[9,8,9,10],[9,12,9,14],[9,16,9,18],[9,20,9,22],[9,24,9,26],[9,28,9,30],[9,32,9,34],[9,36,9,38],[9,40,9,42],[9,44,9,46],[10,1,10,2],[10,5,10,6],[10,9,10,10],[10,13,10,14],[10,17,10,18],[10,21,10,22],[10,25,10,26],[10,29,10,30],[10,33,10,34],[10,37,10,38],[10,41,10,42],[10,45,10,46],[11,1,11,2],[11,5,11,6],[11,9,11,10],[11,13,11,14],[11,17,11,18],[11,21,11,22],[11,25,11,26],[11,29,11,30],[11,33,11,34],[11,37,11,38],[11,41,11,42],[11,45,11,46],[12,1,12,2],[12,5,12,6],[12,9,12,10],[12,13,12,14],[12,17,12,18],[12,21,12,22],[12,25,12,26],[12,29,12,30],[12,33,12,34],[12,37,12,38],[12,41,12,42],[12,45,12,46],[13,1,13,2],[13,5,13,6],[13,9,13,10],[13,13,13,14],[13,17,13,18],[13,21,13,22],[13,25,13,26],[13,29,13,30],[13,33,13,34],[13,37,13,38],[13,41,13,42],[13,45,13,46],[14,1,14,2],[14,5,14,6],[14,9,14,10],[14,13,14,14],[14,17,14,18],[14,21,14,22],[14,25,14,26],[14,29,14,30],[14,33,14,34],[14,37,14,38],[14,41,14,42],[14,45,14,46],[15,1,15,2],[15,5,15,6],[15,9,15,10],[15,13,15,14],[15,17,15,18],[15,21,15,22],[15,25,15,26],[15,29,15,30],[15,33,15,34],[15,37,15,38],[15,41,15,42],[15,45,15,46],[16,0,17,0],[16,1,17,2],[16,4,17,4],[16,5,17,6],[16,8,17,8],[16,9,17,10],[16,12,17,12],[16,13,17,14],[16,16,17,16],[16,17,17,18],[16,20,17,20],[16,21,17,22],[16,24,17,24],[16,25,17,26],[16,28,17,28],[16,29,17,30],[16,32,17,32],[16,33,17,34],[16,36,17,36],[16,37,17,38],[16,40,17,40],[16,41,17,42],[16,44,17,44],[16,45,17,46],[20,0,20,1],[21,0,25,2]]}
[]
[]
["Employment Specialist Name: "]
[]
[]
[]
["Week 1",{"$nulls":3},"Week 2",{"$nulls":3},"Week 3",{"$nulls":3},"Week 4",{"$nulls":3},"Week 5",{"$nulls":3},"Week 6",{"$nulls":3},"Week 7",{"$nulls":3},"Week 8",{"$nulls":3},"Week 9",{"$nulls":3},"Week 10",{"$nulls":3},"Week 11",{"$nulls":3},"Week 12"]
["Dates:",{"$nulls":3},"Dates:",{"$nulls":3},"Dates:",{"$nulls":3},"Dates:",{"$nulls":3},"Dates:",{"$nulls":3},"Dates:",{"$nulls":3},"Dates:",{"$nulls":3},"Dates:",{"$nulls":3},"Dates:",{"$nulls":3},"Dates:",{"$nulls":3},"Dates:",{"$nulls":3},"Dates:"]
["Number of working hours this week:",{"$nulls":3},"Number of working hours this week:",{"$nulls":3},"Number of working hours this week:",{"$nulls":3},"Number of working hours this week:",{"$nulls":3},"Number of working hours this week:",{"$nulls":3},"Number of working hours this week:",{"$nulls":3},"Number of working hours this week:",{"$nulls":3},"Number of working hours this week:",{"$nulls":3},"Number of working hours this week:",{"$nulls":3},"Number of working hours this week:",{"$nulls":3},"Number of working hours this week:",{"$nulls":3},"Number of working hours this week:"]
["Community hours conducted",{"$nulls":3},"Community hours conducted",{"$nulls":3},"Community hours conducted",{"$nulls":3},"Community hours conducted",{"$nulls":3},"Community hours conducted",{"$nulls":3},"Community hours conducted",{"$nulls":3},"Community hours conducted",{"$nulls":3},"Community hours conducted",{"$nulls":3},"Community hours conducted",{"$nulls":3},"Community hours conducted",{"$nulls":3},"Community hours conducted",{"$nulls":3},"Community hours conducted"]
["Monday",{"$nulls":3},"Monday",{"$nulls":3},"Monday",{"$nulls":3},"Monday",{"$nulls":3},"Monday",{"$nulls":3},"Monday",{"$nulls":3},"Monday",{"$nulls":3},"Monday",{"$nulls":3},"Monday",{"$nulls":3},"Monday",{"$nulls":3},"Monday",{"$nulls":3},"Monday"]
["Tuesday",{"$nulls":3},"Tuesday",{"$nulls":3},"Tuesday",{"$nulls":3},"Tuesday",{"$nulls":3},"Tuesday",{"$nulls":3},"Tuesday",{"$nulls":3},"Tuesday",{"$nulls":3},"Tuesday",{"$nulls":3},"Tuesday",{"$nulls":3},"Tuesday",{"$nulls":3},"Tuesday",{"$nulls":3},"Tuesday"]
["Wednesday ",{"$nulls":3},"Wednesday ",{"$nulls":3},"Wednesday ",{"$nulls":3},"Wednesday ",{"$nulls":3},"Wednesday ",{"$nulls":3},"Wednesday ",{"$nulls":3},"Wednesday ",{"$nulls":3},"Wednesday ",{"$nulls":3},"Wednesday ",{"$nulls":3},"Wednesday ",{"$nulls":3},"Wednesday ",{"$nulls":3},"Wednesday "]
["Thursday",{"$nulls":3},"Thursday",{"$nulls":3},"Thursday",{"$nulls":3},"Thursday",{"$nulls":3},"Thursday",{"$nulls":3},"Thursday",{"$nulls":3},"Thursday",{"$nulls":3},"Thursday",{"$nulls":3},"Thursday",{"$nulls":3},"Thursday",{"$nulls":3},"Thursday",{"$nulls":3},"Thursday"]
["Friday",{"$nulls":3},"Friday",{"$nulls":3},"Friday",{"$nulls":3},"Friday",{"$nulls":3},"Friday",{"$nulls":3},"Friday",{"$nulls":3},"Friday",{"$nulls":3},"Friday",{"$nulls":3},"Friday",{"$nulls":3},"Friday",{"$nulls":3},"Friday",{"$nulls":3},"Friday"]
["Total hours",{"$f":"SUM(B11:B15)","v":0},null,null,"Total hours",{"$f":"SUM(F11:F15)","v":0},null,null,"Total hours",{"$f":"SUM(J11:K15)","v":0},null,null,"Total hours",{"$f":"SUM(N11:O15)","v":0},null,null,"Total hours",{"$f":"SUM(R11:S15)","v":0},null,null,"Total hours",{"$f":"SUM(V11:W15)","v":0},null,null,"Total hours",{"$f":"SUM(Z11:AA15)","v":0},null,null,"Total hours",{"$f":"SUM(AD11:AE15)","v":0},null,null,"Total hours",{"$f":"SUM(AH11:AI15)","v":0},null,null,"Total hours",{"$f":"SUM(AL11:AM15)","v":0},null,null,"Total hours",{"$f":"SUM(AP11:AQ15)","v":0},null,null,"Total hours",{"$f":"SUM(AT11:AU15)","v":0}]
["% of time in community",{"$f":"SUM(B16/C9)","v":{"$error":"#DIV/0!"}},null,null,"% of time in community",{"$f":"SUM(F16/G9)","v":{"$error":"#DIV/0!"}},null,null,"% of time in community",{"$f":"SUM(J16/K9)","v":{"$error":"#DIV/0!"}},null,null,"% of time in community",{"$f":"SUM(N16/O9)","v":{"$error":"#DIV/0!"}},null,null,"% of time in community",{"$f":"SUM(R16/S9)","v":{"$error":"#DIV/0!"}},null,null,"% of time in community",{"$f":"SUM(V16/W9)","v":{"$error":"#DIV/0!"}},null,null,"% of time in community",{"$f":"SUM(Z16/AA9)","v":{"$error":"#DIV/0!"}},null,null,"% of time in community",{"$f":"SUM(AD16/AE9)","v":{"$error":"#DIV/0!"}},null,null,"% of time in community",{"$f":"SUM(AH16/AI9)","v":{"$error":"#DIV/0!"}},null,null,"% of time in community",{"$f":"SUM(AL16/AM9)","v":{"$error":"#DIV/0!"}},null,null,"% of time in community",{"$f":"SUM(AP16/AQ9)","v":{"$error":"#DIV/0!"}},null,null,"% of time in community",{"$f":"SUM(AT16/AU9)","v":{"$error":"#DIV/0!"}}]
[]
[]
[]
["Total Average time spent in the  community based on the weeks filled out",null,{"$f":"_xlfn.AGGREGATE(1,6,B17:AT17)","v":{"$error":"#DIV/0!"}}]
["Note: the above calculation will be impacted by any of the numbers put in the data entry cells above. Make sure that all data above is accurate before referencing to the final percentage "]

{"sheet":"Employment Specialist 4","index":5,"n_rows":22,"n_cols":46,"rows_kept":22,"merged":[[2,0,2,1],[2,2,2,6],[6,0,6,2],[6,4,6,6],[6,8,6,10],[6,12,6,14],[6,16,6,18],[6,20,6,22],[6,24,6,26],[6,28,6,30],[6,32,6,34],[6,36,6,38],[6,40,6,42],[6,44,6,46],[7,1,7,2],[7,5,7,6],[7,9,7,10],[7,13,7,14],[7,17,7,18],[7,21,7,22],[7,25,7,26],[7,29,7,30],[7,33,7,34],[7,37,7,38],[7,41,7,42],[7,45,7,46],[8,0,8,1],[8,4,8,5],[8,8,8,9],[8,12,8,13],[8,16,8,17],[8,20,8,21],[8,24,8,25],[8,28,8,29],[8,32,8,33],[8,36,8,37],[8,40,8,41],[8,44,8,45],[9,0,9,2],[9,4,9,6],[9,8,9,10],[9,12,9,14],[9,16,9,18],[9,20,9,22],[9,24,9,26],[9,28,9,30],[9,32,9,34],[9,36,9,38],[9,40,9,42],[9,44,9,46],[10,1,10,2],[10,5,10,6],[10,9,10,10],[10,13,10,14],[10,17,10,18],[10,21,10,22],[10,25,10,26],[10,29,10,30],[10,33,10,34],[10,37,10,38],[10,41,10,42],[10,45,10,46],[11,1,11,2],[11,5,11,6],[11,9,11,10],[11,13,11,14],[11,17,11,18],[11,21,11,22],[11,25,11,26],[11,29,11,30],[11,33,11,34],[11,37,11,38],[11,41,11,42],[11,45,11,46],[12,1,12,2],[12,5,12,6],[12,9,12,10],[12,13,12,14],[12,17,12,18],[12,21,12,22],[12,25,12,26],[12,29,12,30],[12,33,12,34],[12,37,12,38],[12,41,12,42],[12,45,12,46],[13,1,13,2],[13,5,13,6],[13,9,13,10],[13,13,13,14],[13,17,13,18],[13,21,13,22],[13,25,13,26],[13,29,13,30],[13,33,13,34],[13,37,13,38],[13,41,13,42],[13,45,13,46],[14,1,14,2],[14,5,14,6],[14,9,14,10],[14,13,14,14],[14,17,14,18],[14,21,14,22],[14,25,14,26],[14,29,14,30],[14,33,14,34],[14,37,14,38],[14,41,14,42],[14,45,14,46],[15,1,15,2],[15,5,15,6],[15,9,15,10],[15,13,15,14],[15,17,15,18],[15,21,15,22],[15,25,15,26],[15,29,15,30],[15,33,15,34],[15,37,15,38],[15,41,15,42],[15,45,15,46],[16,0,17,0],[16,1,17,2],[16,4,17,4],[16,5,17,6],[16,8,17,8],[16,9,17,10],[16,12,17,12],[16,13,17,14],[16,16,17,16],[16,17,17,18],[16,20,17,20],[16,21,17,22],[16,24,17,24],[16,25,17,26],[16,28,17,28],[16,29,17,30],[16,32,17,32],[16,33,17,34],[16,36,17,36],[16,37,17,38],[16,40,17,40],[16,41,17,42],[16,44,17,44],[16,45,17,46],[20,0,20,1],[21,0,25,2]]}
[]
[]
["Employment Specialist Name: "]
[]
[]
[]
["Week 1",{"$nulls":3},"Week 2",{"$nulls":3},"Week 3",{"$nulls":3},"Week 4",{"$nulls":3},"Week 5",{"$nulls":3},"Week 6",{"$nulls":3},"Week 7",{"$nulls":3},"Week 8",{"$nulls":3},"Week 9",{"$nulls":3},"Week 10",{"$nulls":3},"Week 11",{"$nulls":3},"Week 12"]
["Dates:",{"$nulls":3},"Dates:",{"$nulls":3},"Dates:",{"$nulls":3},"Dates:",{"$nulls":3},"Dates:",{"$nulls":3},"Dates:",{"$nulls":3},"Dates:",{"$nulls":3},"Dates:",{"$nulls":3},"Dates:",{"$nulls":3},"Dates:",{"$nulls":3},"Dates:",{"$nulls":3},"Dates:"]
["Number of working hours this week:",{"$nulls":3},"Number of working hours this week:",{"$nulls":3},"Number of working hours this week:",{"$nulls":3},"Number of working hours this week:",{"$nulls":3},"Number of working hours this week:",{"$nulls":3},"Number of working hours this week:",{"$nulls":3},"Number of working hours this week:",{"$nulls":3},"Number of working hours this week:",{"$nulls":3},"Number of working hours this week:",{"$nulls":3},"Number of working hours this week:",{"$nulls":3},"Number of working hours this week:",{"$nulls":3},"Number of working hours this week:"]
["Community hours conducted",{"$nulls":3},"Community hours conducted",{"$nulls":3},"Community hours conducted",{"$nulls":3},"Community hours conducted",{"$nulls":3},"Community hours conducted",{"$nulls":3},"Community hours conducted",{"$nulls":3},"Community hours conducted",{"$nulls":3},"Community hours conducted",{"$nulls":3},"Community hours conducted",{"$nulls":3},"Community hours conducted",{"$nulls":3},"Community hours conducted",{"$nulls":3},"Community hours conducted"]
["Monday",{"$nulls":3},"Monday",{"$nulls":3},"Monday",{"$nulls":3},"Monday",{"$nulls":3},"Monday",{"$nulls":3},"Monday",{"$nulls":3},"Monday",{"$nulls":3},"Monday",{"$nulls":3},"Monday",{"$nulls":3},"Monday",{"$nulls":3},"Monday",{"$nulls":3},"Monday"]
["Tuesday",{"$nulls":3},"Tuesday",{"$nulls":3},"Tuesday",{"$nulls":3},"Tuesday",{"$nulls":3},"Tuesday",{"$nulls":3},"Tuesday",{"$nulls":3},"Tuesday",{"$nulls":3},"Tuesday",{"$nulls":3},"Tuesday",{"$nulls":3},"Tuesday",{"$nulls":3},"Tuesday",{"$nulls":3},"Tuesday"]
["Wednesday ",{"$nulls":3},"Wednesday ",{"$nulls":3},"Wednesday ",{"$nulls":3},"Wednesday ",{"$nulls":3},"Wednesday ",{"$nulls":3},"Wednesday ",{"$nulls":3},"Wednesday ",{"$nulls":3},"Wednesday ",{"$nulls":3},"Wednesday ",{"$nulls":3},"Wednesday ",{"$nulls":3},"Wednesday ",{"$nulls":3},"Wednesday "]
["Thursday",{"$nulls":3},"Thursday",{"$nulls":3},"Thursday",{"$nulls":3},"Thursday",{"$nulls":3},"Thursday",{"$nulls":3},"Thursday",{"$nulls":3},"Thursday",{"$nulls":3},"Thursday",{"$nulls":3},"Thursday",{"$nulls":3},"Thursday",{"$nulls":3},"Thursday",{"$nulls":3},"Thursday"]
["Friday",{"$nulls":3},"Friday",{"$nulls":3},"Friday",{"$nulls":3},"Friday",{"$nulls":3},"Friday",{"$nulls":3},"Friday",{"$nulls":3},"Friday",{"$nulls":3},"Friday",{"$nulls":3},"Friday",{"$nulls":3},"Friday",{"$nulls":3},"Friday",{"$nulls":3},"Friday"]
["Total hours",{"$f":"SUM(B11:B15)","v":0},null,null,"Total hours",{"$f":"SUM(F11:F15)","v":0},null,null,"Total hours",{"$f":"SUM(J11:K15)","v":0},null,null,"Total hours",{"$f":"SUM(N11:O15)","v":0},null,null,"Total hours",{"$f":"SUM(R11:S15)","v":0},null,null,"Total hours",{"$f":"SUM(V11:W15)","v":0},null,null,"Total hours",{"$f":"SUM(Z11:AA15)","v":0},null,null,"Total hours",{"$f":"SUM(AD11:AE15)","v":0},null,null,"Total hours",{"$f":"SUM(AH11:AI15)","v":0},null,null,"Total hours",{"$f":"SUM(AL11:AM15)","v":0},null,null,"Total hours",{"$f":"SUM(AP11:AQ15)","v":0},null,null,"Total hours",{"$f":"SUM(AT11:AU15)","v":0}]
["% of time in community",{"$f":"SUM(B16/C9)","v":{"$error":"#DIV/0!"}},null,null,"% of time in community",{"$f":"SUM(F16/G9)","v":{"$error":"#DIV/0!"}},null,null,"% of time in community",{"$f":"SUM(J16/K9)","v":{"$error":"#DIV/0!"}},null,null,"% of time in community",{"$f":"SUM(N16/O9)","v":{"$error":"#DIV/0!"}},null,null,"% of time in community",{"$f":"SUM(R16/S9)","v":{"$error":"#DIV/0!"}},null,null,"% of time in community",{"$f":"SUM(V16/W9)","v":{"$error":"#DIV/0!"}},null,null,"% of time in community",{"$f":"SUM(Z16/AA9)","v":{"$error":"#DIV/0!"}},null,null,"% of time in community",{"$f":"SUM(AD16/AE9)","v":{"$error":"#DIV/0!"}},null,null,"% of time in community",{"$f":"SUM(AH16/AI9)","v":{"$error":"#DIV/0!"}},null,null,"% of time in community",{"$f":"SUM(AL16/AM9)","v":{"$error":"#DIV/0!"}},null,null,"% of time in community",{"$f":"SUM(AP16/AQ9)","v":{"$error":"#DIV/0!"}},null,null,"% of time in community",{"$f":"SUM(AT16/AU9)","v":{"$error":"#DIV/0!"}}]
[]
[]
[]
["Total Average time spent in the  community based on the weeks filled out",null,{"$f":"_xlfn.AGGREGATE(1,6,B17:AT17)","v":{"$error":"#DIV/0!"}}]
["Note: the above calculation will be impacted by any of the numbers put in the data entry cells above. Make sure that all data above is accurate before referencing to the final percentage "]

{"sheet":"Employment Specialist 5","index":6,"n_rows":22,"n_cols":46,"rows_kept":22,"merged":[[2,0,2,1],[2,2,2,6],[6,0,6,2],[6,4,6,6],[6,8,6,10],[6,12,6,14],[6,16,6,18],[6,20,6,22],[6,24,6,26],[6,28,6,30],[6,32,6,34],[6,36,6,38],[6,40,6,42],[6,44,6,46],[7,1,7,2],[7,5,7,6],[7,9,7,10],[7,13,7,14],[7,17,7,18],[7,21,7,22],[7,25,7,26],[7,29,7,30],[7,33,7,34],[7,37,7,38],[7,41,7,42],[7,45,7,46],[8,0,8,1],[8,4,8,5],[8,8,8,9],[8,12,8,13],[8,16,8,17],[8,20,8,21],[8,24,8,25],[8,28,8,29],[8,32,8,33],[8,36,8,37],[8,40,8,41],[8,44,8,45],[9,0,9,2],[9,4,9,6],[9,8,9,10],[9,12,9,14],[9,16,9,18],[9,20,9,22],[9,24,9,26],[9,28,9,30],[9,32,9,34],[9,36,9,38],[9,40,9,42],[9,44,9,46],[10,1,10,2],[10,5,10,6],[10,9,10,10],[10,13,10,14],[10,17,10,18],[10,21,10,22],[10,25,10,26],[10,29,10,30],[10,33,10,34],[10,37,10,38],[10,41,10,42],[10,45,10,46],[11,1,11,2],[11,5,11,6],[11,9,11,10],[11,13,11,14],[11,17,11,18],[11,21,11,22],[11,25,11,26],[11,29,11,30],[11,33,11,34],[11,37,11,38],[11,41,11,42],[11,45,11,46],[12,1,12,2],[12,5,12,6],[12,9,12,10],[12,13,12,14],[12,17,12,18],[12,21,12,22],[12,25,12,26],[12,29,12,30],[12,33,12,34],[12,37,12,38],[12,41,12,42],[12,45,12,46],[13,1,13,2],[13,5,13,6],[13,9,13,10],[13,13,13,14],[13,17,13,18],[13,21,13,22],[13,25,13,26],[13,29,13,30],[13,33,13,34],[13,37,13,38],[13,41,13,42],[13,45,13,46],[14,1,14,2],[14,5,14,6],[14,9,14,10],[14,13,14,14],[14,17,14,18],[14,21,14,22],[14,25,14,26],[14,29,14,30],[14,33,14,34],[14,37,14,38],[14,41,14,42],[14,45,14,46],[15,1,15,2],[15,5,15,6],[15,9,15,10],[15,13,15,14],[15,17,15,18],[15,21,15,22],[15,25,15,26],[15,29,15,30],[15,33,15,34],[15,37,15,38],[15,41,15,42],[15,45,15,46],[16,0,17,0],[16,1,17,2],[16,4,17,4],[16,5,17,6],[16,8,17,8],[16,9,17,10],[16,12,17,12],[16,13,17,14],[16,16,17,16],[16,17,17,18],[16,20,17,20],[16,21,17,22],[16,24,17,24],[16,25,17,26],[16,28,17,28],[16,29,17,30],[16,32,17,32],[16,33,17,34],[16,36,17,36],[16,37,17,38],[16,40,17,40],[16,41,17,42],[16,44,17,44],[16,45,17,46],[20,0,20,1],[21,0,25,2]]}
[]
[]
["Employment Specialist Name: "]
[]
[]
[]
["Week 1",{"$nulls":3},"Week 2",{"$nulls":3},"Week 3",{"$nulls":3},"Week 4",{"$nulls":3},"Week 5",{"$nulls":3},"Week 6",{"$nulls":3},"Week 7",{"$nulls":3},"Week 8",{"$nulls":3},"Week 9",{"$nulls":3},"Week 10",{"$nulls":3},"Week 11",{"$nulls":3},"Week 12"]
["Dates:",{"$nulls":3},"Dates:",{"$nulls":3},"Dates:",{"$nulls":3},"Dates:",{"$nulls":3},"Dates:",{"$nulls":3},"Dates:",{"$nulls":3},"Dates:",{"$nulls":3},"Dates:",{"$nulls":3},"Dates:",{"$nulls":3},"Dates:",{"$nulls":3},"Dates:",{"$nulls":3},"Dates:"]
["Number of working hours this week:",{"$nulls":3},"Number of working hours this week:",{"$nulls":3},"Number of working hours this week:",{"$nulls":3},"Number of working hours this week:",{"$nulls":3},"Number of working hours this week:",{"$nulls":3},"Number of working hours this week:",{"$nulls":3},"Number of working hours this week:",{"$nulls":3},"Number of working hours this week:",{"$nulls":3},"Number of working hours this week:",{"$nulls":3},"Number of working hours this week:",{"$nulls":3},"Number of working hours this week:",{"$nulls":3},"Number of working hours this week:"]
["Community hours conducted",{"$nulls":3},"Community hours conducted",{"$nulls":3},"Community hours conducted",{"$nulls":3},"Community hours conducted",{"$nulls":3},"Community hours conducted",{"$nulls":3},"Community hours conducted",{"$nulls":3},"Community hours conducted",{"$nulls":3},"Community hours conducted",{"$nulls":3},"Community hours conducted",{"$nulls":3},"Community hours conducted",{"$nulls":3},"Community hours conducted",{"$nulls":3},"Community hours conducted"]
["Monday",{"$nulls":3},"Monday",{"$nulls":3},"Monday",{"$nulls":3},"Monday",{"$nulls":3},"Monday",{"$nulls":3},"Monday",{"$nulls":3},"Monday",{"$nulls":3},"Monday",{"$nulls":3},"Monday",{"$nulls":3},"Monday",{"$nulls":3},"Monday",{"$nulls":3},"Monday"]
["Tuesday",{"$nulls":3},"Tuesday",{"$nulls":3},"Tuesday",{"$nulls":3},"Tuesday",{"$nulls":3},"Tuesday",{"$nulls":3},"Tuesday",{"$nulls":3},"Tuesday",{"$nulls":3},"Tuesday",{"$nulls":3},"Tuesday",{"$nulls":3},"Tuesday",{"$nulls":3},"Tuesday",{"$nulls":3},"Tuesday"]
["Wednesday ",{"$nulls":3},"Wednesday ",{"$nulls":3},"Wednesday ",{"$nulls":3},"Wednesday ",{"$nulls":3},"Wednesday ",{"$nulls":3},"Wednesday ",{"$nulls":3},"Wednesday ",{"$nulls":3},"Wednesday ",{"$nulls":3},"Wednesday ",{"$nulls":3},"Wednesday ",{"$nulls":3},"Wednesday ",{"$nulls":3},"Wednesday "]
["Thursday",{"$nulls":3},"Thursday",{"$nulls":3},"Thursday",{"$nulls":3},"Thursday",{"$nulls":3},"Thursday",{"$nulls":3},"Thursday",{"$nulls":3},"Thursday",{"$nulls":3},"Thursday",{"$nulls":3},"Thursday",{"$nulls":3},"Thursday",{"$nulls":3},"Thursday",{"$nulls":3},"Thursday"]
["Friday",{"$nulls":3},"Friday",{"$nulls":3},"Friday",{"$nulls":3},"Friday",{"$nulls":3},"Friday",{"$nulls":3},"Friday",{"$nulls":3},"Friday",{"$nulls":3},"Friday",{"$nulls":3},"Friday",{"$nulls":3},"Friday",{"$nulls":3},"Friday",{"$nulls":3},"Friday"]
["Total hours",{"$f":"SUM(B11:B15)","v":0},null,null,"Total hours",{"$f":"SUM(F11:F15)","v":0},null,null,"Total hours",{"$f":"SUM(J11:K15)","v":0},null,null,"Total hours",{"$f":"SUM(N11:O15)","v":0},null,null,"Total hours",{"$f":"SUM(R11:S15)","v":0},null,null,"Total hours",{"$f":"SUM(V11:W15)","v":0},null,null,"Total hours",{"$f":"SUM(Z11:AA15)","v":0},null,null,"Total hours",{"$f":"SUM(AD11:AE15)","v":0},null,null,"Total hours",{"$f":"SUM(AH11:AI15)","v":0},null,null,"Total hours",{"$f":"SUM(AL11:AM15)","v":0},null,null,"Total hours",{"$f":"SUM(AP11:AQ15)","v":0},null,null,"Total hours",{"$f":"SUM(AT11:AU15)","v":0}]
["% of time in community",{"$f":"SUM(B16/C9)","v":{"$error":"#DIV/0!"}},null,null,"% of time in community",{"$f":"SUM(F16/G9)","v":{"$error":"#DIV/0!"}},null,null,"% of time in community",{"$f":"SUM(J16/K9)","v":{"$error":"#DIV/0!"}},null,null,"% of time in community",{"$f":"SUM(N16/O9)","v":{"$error":"#DIV/0!"}},null,null,"% of time in community",{"$f":"SUM(R16/S9)","v":{"$error":"#DIV/0!"}},null,null,"% of time in community",{"$f":"SUM(V16/W9)","v":{"$error":"#DIV/0!"}},null,null,"% of time in community",{"$f":"SUM(Z16/AA9)","v":{"$error":"#DIV/0!"}},null,null,"% of time in community",{"$f":"SUM(AD16/AE9)","v":{"$error":"#DIV/0!"}},null,null,"% of time in community",{"$f":"SUM(AH16/AI9)","v":{"$error":"#DIV/0!"}},null,null,"% of time in community",{"$f":"SUM(AL16/AM9)","v":{"$error":"#DIV/0!"}},null,null,"% of time in community",{"$f":"SUM(AP16/AQ9)","v":{"$error":"#DIV/0!"}},null,null,"% of time in community",{"$f":"SUM(AT16/AU9)","v":{"$error":"#DIV/0!"}}]
[]
[]
[]
["Total Average time spent in the  community based on the weeks filled out",null,{"$f":"_xlfn.AGGREGATE(1,6,B17:AT17)","v":{"$error":"#DIV/0!"}}]
["Note: the above calculation will be impacted by any of the numbers put in the data entry cells above. Make sure that all data above is accurate before referencing to the final percentage "]

{"sheet":"Employment Specialist 6","index":7,"n_rows":22,"n_cols":46,"rows_kept":22,"merged":[[2,0,2,1],[2,2,2,6],[6,0,6,2],[6,4,6,6],[6,8,6,10],[6,12,6,14],[6,16,6,18],[6,20,6,22],[6,24,6,26],[6,28,6,30],[6,32,6,34],[6,36,6,38],[6,40,6,42],[6,44,6,46],[7,1,7,2],[7,5,7,6],[7,9,7,10],[7,13,7,14],[7,17,7,18],[7,21,7,22],[7,25,7,26],[7,29,7,30],[7,33,7,34],[7,37,7,38],[7,41,7,42],[7,45,7,46],[8,0,8,1],[8,4,8,5],[8,8,8,9],[8,12,8,13],[8,16,8,17],[8,20,8,21],[8,24,8,25],[8,28,8,29],[8,32,8,33],[8,36,8,37],[8,40,8,41],[8,44,8,45],[9,0,9,2],[9,4,9,6],[9,8,9,10],[9,12,9,14],[9,16,9,18],[9,20,9,22],[9,24,9,26],[9,28,9,30],[9,32,9,34],[9,36,9,38],[9,40,9,42],[9,44,9,46],[10,1,10,2],[10,5,10,6],[10,9,10,10],[10,13,10,14],[10,17,10,18],[10,21,10,22],[10,25,10,26],[10,29,10,30],[10,33,10,34],[10,37,10,38],[10,41,10,42],[10,45,10,46],[11,1,11,2],[11,5,11,6],[11,9,11,10],[11,13,11,14],[11,17,11,18],[11,21,11,22],[11,25,11,26],[11,29,11,30],[11,33,11,34],[11,37,11,38],[11,41,11,42],[11,45,11,46],[12,1,12,2],[12,5,12,6],[12,9,12,10],[12,13,12,14],[12,17,12,18],[12,21,12,22],[12,25,12,26],[12,29,12,30],[12,33,12,34],[12,37,12,38],[12,41,12,42],[12,45,12,46],[13,1,13,2],[13,5,13,6],[13,9,13,10],[13,13,13,14],[13,17,13,18],[13,21,13,22],[13,25,13,26],[13,29,13,30],[13,33,13,34],[13,37,13,38],[13,41,13,42],[13,45,13,46],[14,1,14,2],[14,5,14,6],[14,9,14,10],[14,13,14,14],[14,17,14,18],[14,21,14,22],[14,25,14,26],[14,29,14,30],[14,33,14,34],[14,37,14,38],[14,41,14,42],[14,45,14,46],[15,1,15,2],[15,5,15,6],[15,9,15,10],[15,13,15,14],[15,17,15,18],[15,21,15,22],[15,25,15,26],[15,29,15,30],[15,33,15,34],[15,37,15,38],[15,41,15,42],[15,45,15,46],[16,0,17,0],[16,1,17,2],[16,4,17,4],[16,5,17,6],[16,8,17,8],[16,9,17,10],[16,12,17,12],[16,13,17,14],[16,16,17,16],[16,17,17,18],[16,20,17,20],[16,21,17,22],[16,24,17,24],[16,25,17,26],[16,28,17,28],[16,29,17,30],[16,32,17,32],[16,33,17,34],[16,36,17,36],[16,37,17,38],[16,40,17,40],[16,41,17,42],[16,44,17,44],[16,45,17,46],[20,0,20,1],[21,0,25,2]]}
[]
[]
["Employment Specialist Name: "]
[]
[]
[]
["Week 1",{"$nulls":3},"Week 2",{"$nulls":3},"Week 3",{"$nulls":3},"Week 4",{"$nulls":3},"Week 5",{"$nulls":3},"Week 6",{"$nulls":3},"Week 7",{"$nulls":3},"Week 8",{"$nulls":3},"Week 9",{"$nulls":3},"Week 10",{"$nulls":3},"Week 11",{"$nulls":3},"Week 12"]
["Dates:",{"$nulls":3},"Dates:",{"$nulls":3},"Dates:",{"$nulls":3},"Dates:",{"$nulls":3},"Dates:",{"$nulls":3},"Dates:",{"$nulls":3},"Dates:",{"$nulls":3},"Dates:",{"$nulls":3},"Dates:",{"$nulls":3},"Dates:",{"$nulls":3},"Dates:",{"$nulls":3},"Dates:"]
["Number of working hours this week:",{"$nulls":3},"Number of working hours this week:",{"$nulls":3},"Number of working hours this week:",{"$nulls":3},"Number of working hours this week:",{"$nulls":3},"Number of working hours this week:",{"$nulls":3},"Number of working hours this week:",{"$nulls":3},"Number of working hours this week:",{"$nulls":3},"Number of working hours this week:",{"$nulls":3},"Number of working hours this week:",{"$nulls":3},"Number of working hours this week:",{"$nulls":3},"Number of working hours this week:",{"$nulls":3},"Number of working hours this week:"]
["Community hours conducted",{"$nulls":3},"Community hours conducted",{"$nulls":3},"Community hours conducted",{"$nulls":3},"Community hours conducted",{"$nulls":3},"Community hours conducted",{"$nulls":3},"Community hours conducted",{"$nulls":3},"Community hours conducted",{"$nulls":3},"Community hours conducted",{"$nulls":3},"Community hours conducted",{"$nulls":3},"Community hours conducted",{"$nulls":3},"Community hours conducted",{"$nulls":3},"Community hours conducted"]
["Monday",{"$nulls":3},"Monday",{"$nulls":3},"Monday",{"$nulls":3},"Monday",{"$nulls":3},"Monday",{"$nulls":3},"Monday",{"$nulls":3},"Monday",{"$nulls":3},"Monday",{"$nulls":3},"Monday",{"$nulls":3},"Monday",{"$nulls":3},"Monday",{"$nulls":3},"Monday"]
["Tuesday",{"$nulls":3},"Tuesday",{"$nulls":3},"Tuesday",{"$nulls":3},"Tuesday",{"$nulls":3},"Tuesday",{"$nulls":3},"Tuesday",{"$nulls":3},"Tuesday",{"$nulls":3},"Tuesday",{"$nulls":3},"Tuesday",{"$nulls":3},"Tuesday",{"$nulls":3},"Tuesday",{"$nulls":3},"Tuesday"]
["Wednesday ",{"$nulls":3},"Wednesday ",{"$nulls":3},"Wednesday ",{"$nulls":3},"Wednesday ",{"$nulls":3},"Wednesday ",{"$nulls":3},"Wednesday ",{"$nulls":3},"Wednesday ",{"$nulls":3},"Wednesday ",{"$nulls":3},"Wednesday ",{"$nulls":3},"Wednesday ",{"$nulls":3},"Wednesday ",{"$nulls":3},"Wednesday "]
["Thursday",{"$nulls":3},"Thursday",{"$nulls":3},"Thursday",{"$nulls":3},"Thursday",{"$nulls":3},"Thursday",{"$nulls":3},"Thursday",{"$nulls":3},"Thursday",{"$nulls":3},"Thursday",{"$nulls":3},"Thursday",{"$nulls":3},"Thursday",{"$nulls":3},"Thursday",{"$nulls":3},"Thursday"]
["Friday",{"$nulls":3},"Friday",{"$nulls":3},"Friday",{"$nulls":3},"Friday",{"$nulls":3},"Friday",{"$nulls":3},"Friday",{"$nulls":3},"Friday",{"$nulls":3},"Friday",{"$nulls":3},"Friday",{"$nulls":3},"Friday",{"$nulls":3},"Friday",{"$nulls":3},"Friday"]
["Total hours",{"$f":"SUM(B11:B15)","v":0},null,null,"Total hours",{"$f":"SUM(F11:F15)","v":0},null,null,"Total hours",{"$f":"SUM(J11:K15)","v":0},null,null,"Total hours",{"$f":"SUM(N11:O15)","v":0},null,null,"Total hours",{"$f":"SUM(R11:S15)","v":0},null,null,"Total hours",{"$f":"SUM(V11:W15)","v":0},null,null,"Total hours",{"$f":"SUM(Z11:AA15)","v":0},null,null,"Total hours",{"$f":"SUM(AD11:AE15)","v":0},null,null,"Total hours",{"$f":"SUM(AH11:AI15)","v":0},null,null,"Total hours",{"$f":"SUM(AL11:AM15)","v":0},null,null,"Total hours",{"$f":"SUM(AP11:AQ15)","v":0},null,null,"Total hours",{"$f":"SUM(AT11:AU15)","v":0}]
["% of time in community",{"$f":"SUM(B16/C9)","v":{"$error":"#DIV/0!"}},null,null,"% of time in community",{"$f":"SUM(F16/G9)","v":{"$error":"#DIV/0!"}},null,null,"% of time in community",{"$f":"SUM(J16/K9)","v":{"$error":"#DIV/0!"}},null,null,"% of time in community",{"$f":"SUM(N16/O9)","v":{"$error":"#DIV/0!"}},null,null,"% of time in community",{"$f":"SUM(R16/S9)","v":{"$error":"#DIV/0!"}},null,null,"% of time in community",{"$f":"SUM(V16/W9)","v":{"$error":"#DIV/0!"}},null,null,"% of time in community",{"$f":"SUM(Z16/AA9)","v":{"$error":"#DIV/0!"}},null,null,"% of time in community",{"$f":"SUM(AD16/AE9)","v":{"$error":"#DIV/0!"}},null,null,"% of time in community",{"$f":"SUM(AH16/AI9)","v":{"$error":"#DIV/0!"}},null,null,"% of time in community",{"$f":"SUM(AL16/AM9)","v":{"$error":"#DIV/0!"}},null,null,"% of time in community",{"$f":"SUM(AP16/AQ9)","v":{"$error":"#DIV/0!"}},null,null,"% of time in community",{"$f":"SUM(AT16/AU9)","v":{"$error":"#DIV/0!"}}]
[]
[]
[]
["Total Average time spent in the  community based on the weeks filled out",null,{"$f":"_xlfn.AGGREGATE(1,6,B17:AT17)","v":{"$error":"#DIV/0!"}}]
["Note: the above calculation will be impacted by any of the numbers put in the data entry cells above. Make sure that all data above is accurate before referencing to the final percentage "]

{"sheet":"Employment Specialist 7","index":8,"n_rows":22,"n_cols":46,"rows_kept":22,"merged":[[2,0,2,1],[2,2,2,6],[6,0,6,2],[6,4,6,6],[6,8,6,10],[6,12,6,14],[6,16,6,18],[6,20,6,22],[6,24,6,26],[6,28,6,30],[6,32,6,34],[6,36,6,38],[6,40,6,42],[6,44,6,46],[7,1,7,2],[7,5,7,6],[7,9,7,10],[7,13,7,14],[7,17,7,18],[7,21,7,22],[7,25,7,26],[7,29,7,30],[7,33,7,34],[7,37,7,38],[7,41,7,42],[7,45,7,46],[8,0,8,1],[8,4,8,5],[8,8,8,9],[8,12,8,13],[8,16,8,17],[8,20,8,21],[8,24,8,25],[8,28,8,29],[8,32,8,33],[8,36,8,37],[8,40,8,41],[8,44,8,45],[9,0,9,2],[9,4,9,6],[9,8,9,10],[9,12,9,14],[9,16,9,18],[9,20,9,22],[9,24,9,26],[9,28,9,30],[9,32,9,34],[9,36,9,38],[9,40,9,42],[9,44,9,46],[10,1,10,2],[10,5,10,6],[10,9,10,10],[10,13,10,14],[10,17,10,18],[10,21,10,22],[10,25,10,26],[10,29,10,30],[10,33,10,34],[10,37,10,38],[10,41,10,42],[10,45,10,46],[11,1,11,2],[11,5,11,6],[11,9,11,10],[11,13,11,14],[11,17,11,18],[11,21,11,22],[11,25,11,26],[11,29,11,30],[11,33,11,34],[11,37,11,38],[11,41,11,42],[11,45,11,46],[12,1,12,2],[12,5,12,6],[12,9,12,10],[12,13,12,14],[12,17,12,18],[12,21,12,22],[12,25,12,26],[12,29,12,30],[12,33,12,34],[12,37,12,38],[12,41,12,42],[12,45,12,46],[13,1,13,2],[13,5,13,6],[13,9,13,10],[13,13,13,14],[13,17,13,18],[13,21,13,22],[13,25,13,26],[13,29,13,30],[13,33,13,34],[13,37,13,38],[13,41,13,42],[13,45,13,46],[14,1,14,2],[14,5,14,6],[14,9,14,10],[14,13,14,14],[14,17,14,18],[14,21,14,22],[14,25,14,26],[14,29,14,30],[14,33,14,34],[14,37,14,38],[14,41,14,42],[14,45,14,46],[15,1,15,2],[15,5,15,6],[15,9,15,10],[15,13,15,14],[15,17,15,18],[15,21,15,22],[15,25,15,26],[15,29,15,30],[15,33,15,34],[15,37,15,38],[15,41,15,42],[15,45,15,46],[16,0,17,0],[16,1,17,2],[16,4,17,4],[16,5,17,6],[16,8,17,8],[16,9,17,10],[16,12,17,12],[16,13,17,14],[16,16,17,16],[16,17,17,18],[16,20,17,20],[16,21,17,22],[16,24,17,24],[16,25,17,26],[16,28,17,28],[16,29,17,30],[16,32,17,32],[16,33,17,34],[16,36,17,36],[16,37,17,38],[16,40,17,40],[16,41,17,42],[16,44,17,44],[16,45,17,46],[20,0,20,1],[21,0,25,2]]}
[]
[]
["Employment Specialist Name: "]
[]
[]
[]
["Week 1",{"$nulls":3},"Week 2",{"$nulls":3},"Week 3",{"$nulls":3},"Week 4",{"$nulls":3},"Week 5",{"$nulls":3},"Week 6",{"$nulls":3},"Week 7",{"$nulls":3},"Week 8",{"$nulls":3},"Week 9",{"$nulls":3},"Week 10",{"$nulls":3},"Week 11",{"$nulls":3},"Week 12"]
["Dates:",{"$nulls":3},"Dates:",{"$nulls":3},"Dates:",{"$nulls":3},"Dates:",{"$nulls":3},"Dates:",{"$nulls":3},"Dates:",{"$nulls":3},"Dates:",{"$nulls":3},"Dates:",{"$nulls":3},"Dates:",{"$nulls":3},"Dates:",{"$nulls":3},"Dates:",{"$nulls":3},"Dates:"]
["Number of working hours this week:",{"$nulls":3},"Number of working hours this week:",{"$nulls":3},"Number of working hours this week:",{"$nulls":3},"Number of working hours this week:",{"$nulls":3},"Number of working hours this week:",{"$nulls":3},"Number of working hours this week:",{"$nulls":3},"Number of working hours this week:",{"$nulls":3},"Number of working hours this week:",{"$nulls":3},"Number of working hours this week:",{"$nulls":3},"Number of working hours this week:",{"$nulls":3},"Number of working hours this week:",{"$nulls":3},"Number of working hours this week:"]
["Community hours conducted",{"$nulls":3},"Community hours conducted",{"$nulls":3},"Community hours conducted",{"$nulls":3},"Community hours conducted",{"$nulls":3},"Community hours conducted",{"$nulls":3},"Community hours conducted",{"$nulls":3},"Community hours conducted",{"$nulls":3},"Community hours conducted",{"$nulls":3},"Community hours conducted",{"$nulls":3},"Community hours conducted",{"$nulls":3},"Community hours conducted",{"$nulls":3},"Community hours conducted"]
["Monday",{"$nulls":3},"Monday",{"$nulls":3},"Monday",{"$nulls":3},"Monday",{"$nulls":3},"Monday",{"$nulls":3},"Monday",{"$nulls":3},"Monday",{"$nulls":3},"Monday",{"$nulls":3},"Monday",{"$nulls":3},"Monday",{"$nulls":3},"Monday",{"$nulls":3},"Monday"]
["Tuesday",{"$nulls":3},"Tuesday",{"$nulls":3},"Tuesday",{"$nulls":3},"Tuesday",{"$nulls":3},"Tuesday",{"$nulls":3},"Tuesday",{"$nulls":3},"Tuesday",{"$nulls":3},"Tuesday",{"$nulls":3},"Tuesday",{"$nulls":3},"Tuesday",{"$nulls":3},"Tuesday",{"$nulls":3},"Tuesday"]
["Wednesday ",{"$nulls":3},"Wednesday ",{"$nulls":3},"Wednesday ",{"$nulls":3},"Wednesday ",{"$nulls":3},"Wednesday ",{"$nulls":3},"Wednesday ",{"$nulls":3},"Wednesday ",{"$nulls":3},"Wednesday ",{"$nulls":3},"Wednesday ",{"$nulls":3},"Wednesday ",{"$nulls":3},"Wednesday ",{"$nulls":3},"Wednesday "]
["Thursday",{"$nulls":3},"Thursday",{"$nulls":3},"Thursday",{"$nulls":3},"Thursday",{"$nulls":3},"Thursday",{"$nulls":3},"Thursday",{"$nulls":3},"Thursday",{"$nulls":3},"Thursday",{"$nulls":3},"Thursday",{"$nulls":3},"Thursday",{"$nulls":3},"Thursday",{"$nulls":3},"Thursday"]
["Friday",{"$nulls":3},"Friday",{"$nulls":3},"Friday",{"$nulls":3},"Friday",{"$nulls":3},"Friday",{"$nulls":3},"Friday",{"$nulls":3},"Friday",{"$nulls":3},"Friday",{"$nulls":3},"Friday",{"$nulls":3},"Friday",{"$nulls":3},"Friday",{"$nulls":3},"Friday"]
["Total hours",{"$f":"SUM(B11:B15)","v":0},null,null,"Total hours",{"$f":"SUM(F11:F15)","v":0},null,null,"Total hours",{"$f":"SUM(J11:K15)","v":0},null,null,"Total hours",{"$f":"SUM(N11:O15)","v":0},null,null,"Total hours",{"$f":"SUM(R11:S15)","v":0},null,null,"Total hours",{"$f":"SUM(V11:W15)","v":0},null,null,"Total hours",{"$f":"SUM(Z11:AA15)","v":0},null,null,"Total hours",{"$f":"SUM(AD11:AE15)","v":0},null,null,"Total hours",{"$f":"SUM(AH11:AI15)","v":0},null,null,"Total hours",{"$f":"SUM(AL11:AM15)","v":0},null,null,"Total hours",{"$f":"SUM(AP11:AQ15)","v":0},null,null,"Total hours",{"$f":"SUM(AT11:AU15)","v":0}]
["% of time in community",{"$f":"SUM(B16/C9)","v":{"$error":"#DIV/0!"}},null,null,"% of time in community",{"$f":"SUM(F16/G9)","v":{"$error":"#DIV/0!"}},null,null,"% of time in community",{"$f":"SUM(J16/K9)","v":{"$error":"#DIV/0!"}},null,null,"% of time in community",{"$f":"SUM(N16/O9)","v":{"$error":"#DIV/0!"}},null,null,"% of time in community",{"$f":"SUM(R16/S9)","v":{"$error":"#DIV/0!"}},null,null,"% of time in community",{"$f":"SUM(V16/W9)","v":{"$error":"#DIV/0!"}},null,null,"% of time in community",{"$f":"SUM(Z16/AA9)","v":{"$error":"#DIV/0!"}},null,null,"% of time in community",{"$f":"SUM(AD16/AE9)","v":{"$error":"#DIV/0!"}},null,null,"% of time in community",{"$f":"SUM(AH16/AI9)","v":{"$error":"#DIV/0!"}},null,null,"% of time in community",{"$f":"SUM(AL16/AM9)","v":{"$error":"#DIV/0!"}},null,null,"% of time in community",{"$f":"SUM(AP16/AQ9)","v":{"$error":"#DIV/0!"}},null,null,"% of time in community",{"$f":"SUM(AT16/AU9)","v":{"$error":"#DIV/0!"}}]
[]
[]
[]
["Total Average time spent in the  community based on the weeks filled out",null,{"$f":"_xlfn.AGGREGATE(1,6,B17:AT17)","v":{"$error":"#DIV/0!"}}]
["Note: the above calculation will be impacted by any of the numbers put in the data entry cells above. Make sure that all data above is accurate before referencing to the final percentage "]

{"sheet":"Employment Specialist 8","index":9,"n_rows":22,"n_cols":46,"rows_kept":22,"merged":[[2,0,2,1],[2,2,2,6],[6,0,6,2],[6,4,6,6],[6,8,6,10],[6,12,6,14],[6,16,6,18],[6,20,6,22],[6,24,6,26],[6,28,6,30],[6,32,6,34],[6,36,6,38],[6,40,6,42],[6,44,6,46],[7,1,7,2],[7,5,7,6],[7,9,7,10],[7,13,7,14],[7,17,7,18],[7,21,7,22],[7,25,7,26],[7,29,7,30],[7,33,7,34],[7,37,7,38],[7,41,7,42],[7,45,7,46],[8,0,8,1],[8,4,8,5],[8,8,8,9],[8,12,8,13],[8,16,8,17],[8,20,8,21],[8,24,8,25],[8,28,8,29],[8,32,8,33],[8,36,8,37],[8,40,8,41],[8,44,8,45],[9,0,9,2],[9,4,9,6],[9,8,9,10],[9,12,9,14],[9,16,9,18],[9,20,9,22],[9,24,9,26],[9,28,9,30],[9,32,9,34],[9,36,9,38],[9,40,9,42],[9,44,9,46],[10,1,10,2],[10,5,10,6],[10,9,10,10],[10,13,10,14],[10,17,10,18],[10,21,10,22],[10,25,10,26],[10,29,10,30],[10,33,10,34],[10,37,10,38],[10,41,10,42],[10,45,10,46],[11,1,11,2],[11,5,11,6],[11,9,11,10],[11,13,11,14],[11,17,11,18],[11,21,11,22],[11,25,11,26],[11,29,11,30],[11,33,11,34],[11,37,11,38],[11,41,11,42],[11,45,11,46],[12,1,12,2],[12,5,12,6],[12,9,12,10],[12,13,12,14],[12,17,12,18],[12,21,12,22],[12,25,12,26],[12,29,12,30],[12,33,12,34],[12,37,12,38],[12,41,12,42],[12,45,12,46],[13,1,13,2],[13,5,13,6],[13,9,13,10],[13,13,13,14],[13,17,13,18],[13,21,13,22],[13,25,13,26],[13,29,13,30],[13,33,13,34],[13,37,13,38],[13,41,13,42],[13,45,13,46],[14,1,14,2],[14,5,14,6],[14,9,14,10],[14,13,14,14],[14,17,14,18],[14,21,14,22],[14,25,14,26],[14,29,14,30],[14,33,14,34],[14,37,14,38],[14,41,14,42],[14,45,14,46],[15,1,15,2],[15,5,15,6],[15,9,15,10],[15,13,15,14],[15,17,15,18],[15,21,15,22],[15,25,15,26],[15,29,15,30],[15,33,15,34],[15,37,15,38],[15,41,15,42],[15,45,15,46],[16,0,17,0],[16,1,17,2],[16,4,17,4],[16,5,17,6],[16,8,17,8],[16,9,17,10],[16,12,17,12],[16,13,17,14],[16,16,17,16],[16,17,17,18],[16,20,17,20],[16,21,17,22],[16,24,17,24],[16,25,17,26],[16,28,17,28],[16,29,17,30],[16,32,17,32],[16,33,17,34],[16,36,17,36],[16,37,17,38],[16,40,17,40],[16,41,17,42],[16,44,17,44],[16,45,17,46],[20,0,20,1],[21,0,25,2]]}
[]
[]
["Employment Specialist Name: "]
[]
[]
[]
["Week 1",{"$nulls":3},"Week 2",{"$nulls":3},"Week 3",{"$nulls":3},"Week 4",{"$nulls":3},"Week 5",{"$nulls":3},"Week 6",{"$nulls":3},"Week 7",{"$nulls":3},"Week 8",{"$nulls":3},"Week 9",{"$nulls":3},"Week 10",{"$nulls":3},"Week 11",{"$nulls":3},"Week 12"]
["Dates:",{"$nulls":3},"Dates:",{"$nulls":3},"Dates:",{"$nulls":3},"Dates:",{"$nulls":3},"Dates:",{"$nulls":3},"Dates:",{"$nulls":3},"Dates:",{"$nulls":3},"Dates:",{"$nulls":3},"Dates:",{"$nulls":3},"Dates:",{"$nulls":3},"Dates:",{"$nulls":3},"Dates:"]
["Number of working hours this week:",{"$nulls":3},"Number of working hours this week:",{"$nulls":3},"Number of working hours this week:",{"$nulls":3},"Number of working hours this week:",{"$nulls":3},"Number of working hours this week:",{"$nulls":3},"Number of working hours this week:",{"$nulls":3},"Number of working hours this week:",{"$nulls":3},"Number of working hours this week:",{"$nulls":3},"Number of working hours this week:",{"$nulls":3},"Number of working hours this week:",{"$nulls":3},"Number of working hours this week:",{"$nulls":3},"Number of working hours this week:"]
["Community hours conducted",{"$nulls":3},"Community hours conducted",{"$nulls":3},"Community hours conducted",{"$nulls":3},"Community hours conducted",{"$nulls":3},"Community hours conducted",{"$nulls":3},"Community hours conducted",{"$nulls":3},"Community hours conducted",{"$nulls":3},"Community hours conducted",{"$nulls":3},"Community hours conducted",{"$nulls":3},"Community hours conducted",{"$nulls":3},"Community hours conducted",{"$nulls":3},"Community hours conducted"]
["Monday",{"$nulls":3},"Monday",{"$nulls":3},"Monday",{"$nulls":3},"Monday",{"$nulls":3},"Monday",{"$nulls":3},"Monday",{"$nulls":3},"Monday",{"$nulls":3},"Monday",{"$nulls":3},"Monday",{"$nulls":3},"Monday",{"$nulls":3},"Monday",{"$nulls":3},"Monday"]
["Tuesday",{"$nulls":3},"Tuesday",{"$nulls":3},"Tuesday",{"$nulls":3},"Tuesday",{"$nulls":3},"Tuesday",{"$nulls":3},"Tuesday",{"$nulls":3},"Tuesday",{"$nulls":3},"Tuesday",{"$nulls":3},"Tuesday",{"$nulls":3},"Tuesday",{"$nulls":3},"Tuesday",{"$nulls":3},"Tuesday"]
["Wednesday ",{"$nulls":3},"Wednesday ",{"$nulls":3},"Wednesday ",{"$nulls":3},"Wednesday ",{"$nulls":3},"Wednesday ",{"$nulls":3},"Wednesday ",{"$nulls":3},"Wednesday ",{"$nulls":3},"Wednesday ",{"$nulls":3},"Wednesday ",{"$nulls":3},"Wednesday ",{"$nulls":3},"Wednesday ",{"$nulls":3},"Wednesday "]
["Thursday",{"$nulls":3},"Thursday",{"$nulls":3},"Thursday",{"$nulls":3},"Thursday",{"$nulls":3},"Thursday",{"$nulls":3},"Thursday",{"$nulls":3},"Thursday",{"$nulls":3},"Thursday",{"$nulls":3},"Thursday",{"$nulls":3},"Thursday",{"$nulls":3},"Thursday",{"$nulls":3},"Thursday"]
["Friday",{"$nulls":3},"Friday",{"$nulls":3},"Friday",{"$nulls":3},"Friday",{"$nulls":3},"Friday",{"$nulls":3},"Friday",{"$nulls":3},"Friday",{"$nulls":3},"Friday",{"$nulls":3},"Friday",{"$nulls":3},"Friday",{"$nulls":3},"Friday",{"$nulls":3},"Friday"]
["Total hours",{"$f":"SUM(B11:B15)","v":0},null,null,"Total hours",{"$f":"SUM(F11:F15)","v":0},null,null,"Total hours",{"$f":"SUM(J11:K15)","v":0},null,null,"Total hours",{"$f":"SUM(N11:O15)","v":0},null,null,"Total hours",{"$f":"SUM(R11:S15)","v":0},null,null,"Total hours",{"$f":"SUM(V11:W15)","v":0},null,null,"Total hours",{"$f":"SUM(Z11:AA15)","v":0},null,null,"Total hours",{"$f":"SUM(AD11:AE15)","v":0},null,null,"Total hours",{"$f":"SUM(AH11:AI15)","v":0},null,null,"Total hours",{"$f":"SUM(AL11:AM15)","v":0},null,null,"Total hours",{"$f":"SUM(AP11:AQ15)","v":0},null,null,"Total hours",{"$f":"SUM(AT11:AU15)","v":0}]
["% of time in community",{"$f":"SUM(B16/C9)","v":{"$error":"#DIV/0!"}},null,null,"% of time in community",{"$f":"SUM(F16/G9)","v":{"$error":"#DIV/0!"}},null,null,"% of time in community",{"$f":"SUM(J16/K9)","v":{"$error":"#DIV/0!"}},null,null,"% of time in community",{"$f":"SUM(N16/O9)","v":{"$error":"#DIV/0!"}},null,null,"% of time in community",{"$f":"SUM(R16/S9)","v":{"$error":"#DIV/0!"}},null,null,"% of time in community",{"$f":"SUM(V16/W9)","v":{"$error":"#DIV/0!"}},null,null,"% of time in community",{"$f":"SUM(Z16/AA9)","v":{"$error":"#DIV/0!"}},null,null,"% of time in community",{"$f":"SUM(AD16/AE9)","v":{"$error":"#DIV/0!"}},null,null,"% of time in community",{"$f":"SUM(AH16/AI9)","v":{"$error":"#DIV/0!"}},null,null,"% of time in community",{"$f":"SUM(AL16/AM9)","v":{"$error":"#DIV/0!"}},null,null,"% of time in community",{"$f":"SUM(AP16/AQ9)","v":{"$error":"#DIV/0!"}},null,null,"% of time in community",{"$f":"SUM(AT16/AU9)","v":{"$error":"#DIV/0!"}}]
[]
[]
[]
["Total Average time spent in the  community based on the weeks filled out",null,{"$f":"_xlfn.AGGREGATE(1,6,B17:AT17)","v":{"$error":"#DIV/0!"}}]
["Note: the above calculation will be impacted by any of the numbers put in the data entry cells above. Make sure that all data above is accurate before referencing to the final percentage "]

{"sheet":"Employment Specialist 9","index":10,"n_rows":22,"n_cols":46,"rows_kept":22,"merged":[[2,0,2,1],[2,2,2,6],[6,0,6,2],[6,4,6,6],[6,8,6,10],[6,12,6,14],[6,16,6,18],[6,20,6,22],[6,24,6,26],[6,28,6,30],[6,32,6,34],[6,36,6,38],[6,40,6,42],[6,44,6,46],[7,1,7,2],[7,5,7,6],[7,9,7,10],[7,13,7,14],[7,17,7,18],[7,21,7,22],[7,25,7,26],[7,29,7,30],[7,33,7,34],[7,37,7,38],[7,41,7,42],[7,45,7,46],[8,0,8,1],[8,4,8,5],[8,8,8,9],[8,12,8,13],[8,16,8,17],[8,20,8,21],[8,24,8,25],[8,28,8,29],[8,32,8,33],[8,36,8,37],[8,40,8,41],[8,44,8,45],[9,0,9,2],[9,4,9,6],[9,8,9,10],[9,12,9,14],[9,16,9,18],[9,20,9,22],[9,24,9,26],[9,28,9,30],[9,32,9,34],[9,36,9,38],[9,40,9,42],[9,44,9,46],[10,1,10,2],[10,5,10,6],[10,9,10,10],[10,13,10,14],[10,17,10,18],[10,21,10,22],[10,25,10,26],[10,29,10,30],[10,33,10,34],[10,37,10,38],[10,41,10,42],[10,45,10,46],[11,1,11,2],[11,5,11,6],[11,9,11,10],[11,13,11,14],[11,17,11,18],[11,21,11,22],[11,25,11,26],[11,29,11,30],[11,33,11,34],[11,37,11,38],[11,41,11,42],[11,45,11,46],[12,1,12,2],[12,5,12,6],[12,9,12,10],[12,13,12,14],[12,17,12,18],[12,21,12,22],[12,25,12,26],[12,29,12,30],[12,33,12,34],[12,37,12,38],[12,41,12,42],[12,45,12,46],[13,1,13,2],[13,5,13,6],[13,9,13,10],[13,13,13,14],[13,17,13,18],[13,21,13,22],[13,25,13,26],[13,29,13,30],[13,33,13,34],[13,37,13,38],[13,41,13,42],[13,45,13,46],[14,1,14,2],[14,5,14,6],[14,9,14,10],[14,13,14,14],[14,17,14,18],[14,21,14,22],[14,25,14,26],[14,29,14,30],[14,33,14,34],[14,37,14,38],[14,41,14,42],[14,45,14,46],[15,1,15,2],[15,5,15,6],[15,9,15,10],[15,13,15,14],[15,17,15,18],[15,21,15,22],[15,25,15,26],[15,29,15,30],[15,33,15,34],[15,37,15,38],[15,41,15,42],[15,45,15,46],[16,0,17,0],[16,1,17,2],[16,4,17,4],[16,5,17,6],[16,8,17,8],[16,9,17,10],[16,12,17,12],[16,13,17,14],[16,16,17,16],[16,17,17,18],[16,20,17,20],[16,21,17,22],[16,24,17,24],[16,25,17,26],[16,28,17,28],[16,29,17,30],[16,32,17,32],[16,33,17,34],[16,36,17,36],[16,37,17,38],[16,40,17,40],[16,41,17,42],[16,44,17,44],[16,45,17,46],[20,0,20,1],[21,0,25,2]]}
[]
[]
["Employment Specialist Name: "]
[]
[]
[]
["Week 1",{"$nulls":3},"Week 2",{"$nulls":3},"Week 3",{"$nulls":3},"Week 4",{"$nulls":3},"Week 5",{"$nulls":3},"Week 6",{"$nulls":3},"Week 7",{"$nulls":3},"Week 8",{"$nulls":3},"Week 9",{"$nulls":3},"Week 10",{"$nulls":3},"Week 11",{"$nulls":3},"Week 12"]
["Dates:",{"$nulls":3},"Dates:",{"$nulls":3},"Dates:",{"$nulls":3},"Dates:",{"$nulls":3},"Dates:",{"$nulls":3},"Dates:",{"$nulls":3},"Dates:",{"$nulls":3},"Dates:",{"$nulls":3},"Dates:",{"$nulls":3},"Dates:",{"$nulls":3},"Dates:",{"$nulls":3},"Dates:"]
["Number of working hours this week:",{"$nulls":3},"Number of working hours this week:",{"$nulls":3},"Number of working hours this week:",{"$nulls":3},"Number of working hours this week:",{"$nulls":3},"Number of working hours this week:",{"$nulls":3},"Number of working hours this week:",{"$nulls":3},"Number of working hours this week:",{"$nulls":3},"Number of working hours this week:",{"$nulls":3},"Number of working hours this week:",{"$nulls":3},"Number of working hours this week:",{"$nulls":3},"Number of working hours this week:",{"$nulls":3},"Number of working hours this week:"]
["Community hours conducted",{"$nulls":3},"Community hours conducted",{"$nulls":3},"Community hours conducted",{"$nulls":3},"Community hours conducted",{"$nulls":3},"Community hours conducted",{"$nulls":3},"Community hours conducted",{"$nulls":3},"Community hours conducted",{"$nulls":3},"Community hours conducted",{"$nulls":3},"Community hours conducted",{"$nulls":3},"Community hours conducted",{"$nulls":3},"Community hours conducted",{"$nulls":3},"Community hours conducted"]
["Monday",{"$nulls":3},"Monday",{"$nulls":3},"Monday",{"$nulls":3},"Monday",{"$nulls":3},"Monday",{"$nulls":3},"Monday",{"$nulls":3},"Monday",{"$nulls":3},"Monday",{"$nulls":3},"Monday",{"$nulls":3},"Monday",{"$nulls":3},"Monday",{"$nulls":3},"Monday"]
["Tuesday",{"$nulls":3},"Tuesday",{"$nulls":3},"Tuesday",{"$nulls":3},"Tuesday",{"$nulls":3},"Tuesday",{"$nulls":3},"Tuesday",{"$nulls":3},"Tuesday",{"$nulls":3},"Tuesday",{"$nulls":3},"Tuesday",{"$nulls":3},"Tuesday",{"$nulls":3},"Tuesday",{"$nulls":3},"Tuesday"]
["Wednesday ",{"$nulls":3},"Wednesday ",{"$nulls":3},"Wednesday ",{"$nulls":3},"Wednesday ",{"$nulls":3},"Wednesday ",{"$nulls":3},"Wednesday ",{"$nulls":3},"Wednesday ",{"$nulls":3},"Wednesday ",{"$nulls":3},"Wednesday ",{"$nulls":3},"Wednesday ",{"$nulls":3},"Wednesday ",{"$nulls":3},"Wednesday "]
["Thursday",{"$nulls":3},"Thursday",{"$nulls":3},"Thursday",{"$nulls":3},"Thursday",{"$nulls":3},"Thursday",{"$nulls":3},"Thursday",{"$nulls":3},"Thursday",{"$nulls":3},"Thursday",{"$nulls":3},"Thursday",{"$nulls":3},"Thursday",{"$nulls":3},"Thursday",{"$nulls":3},"Thursday"]
["Friday",{"$nulls":3},"Friday",{"$nulls":3},"Friday",{"$nulls":3},"Friday",{"$nulls":3},"Friday",{"$nulls":3},"Friday",{"$nulls":3},"Friday",{"$nulls":3},"Friday",{"$nulls":3},"Friday",{"$nulls":3},"Friday",{"$nulls":3},"Friday",{"$nulls":3},"Friday"]
["Total hours",{"$f":"SUM(B11:B15)","v":0},null,null,"Total hours",{"$f":"SUM(F11:F15)","v":0},null,null,"Total hours",{"$f":"SUM(J11:K15)","v":0},null,null,"Total hours",{"$f":"SUM(N11:O15)","v":0},null,null,"Total hours",{"$f":"SUM(R11:S15)","v":0},null,null,"Total hours",{"$f":"SUM(V11:W15)","v":0},null,null,"Total hours",{"$f":"SUM(Z11:AA15)","v":0},null,null,"Total hours",{"$f":"SUM(AD11:AE15)","v":0},null,null,"Total hours",{"$f":"SUM(AH11:AI15)","v":0},null,null,"Total hours",{"$f":"SUM(AL11:AM15)","v":0},null,null,"Total hours",{"$f":"SUM(AP11:AQ15)","v":0},null,null,"Total hours",{"$f":"SUM(AT11:AU15)","v":0}]
["% of time in community",{"$f":"SUM(B16/C9)","v":{"$error":"#DIV/0!"}},null,null,"% of time in community",{"$f":"SUM(F16/G9)","v":{"$error":"#DIV/0!"}},null,null,"% of time in community",{"$f":"SUM(J16/K9)","v":{"$error":"#DIV/0!"}},null,null,"% of time in community",{"$f":"SUM(N16/O9)","v":{"$error":"#DIV/0!"}},null,null,"% of time in community",{"$f":"SUM(R16/S9)","v":{"$error":"#DIV/0!"}},null,null,"% of time in community",{"$f":"SUM(V16/W9)","v":{"$error":"#DIV/0!"}},null,null,"% of time in community",{"$f":"SUM(Z16/AA9)","v":{"$error":"#DIV/0!"}},null,null,"% of time in community",{"$f":"SUM(AD16/AE9)","v":{"$error":"#DIV/0!"}},null,null,"% of time in community",{"$f":"SUM(AH16/AI9)","v":{"$error":"#DIV/0!"}},null,null,"% of time in community",{"$f":"SUM(AL16/AM9)","v":{"$error":"#DIV/0!"}},null,null,"% of time in community",{"$f":"SUM(AP16/AQ9)","v":{"$error":"#DIV/0!"}},null,null,"% of time in community",{"$f":"SUM(AT16/AU9)","v":{"$error":"#DIV/0!"}}]
[]
[]
[]
["Total Average time spent in the  community based on the weeks filled out",null,{"$f":"_xlfn.AGGREGATE(1,6,B17:AT17)","v":{"$error":"#DIV/0!"}}]
["Note: the above calculation will be impacted by any of the numbers put in the data entry cells above. Make sure that all data above is accurate before referencing to the final percentage "]

{"sheet":"Employment Specialist 10","index":11,"n_rows":22,"n_cols":46,"rows_kept":22,"merged":[[2,0,2,1],[2,2,2,6],[6,0,6,2],[6,4,6,6],[6,8,6,10],[6,12,6,14],[6,16,6,18],[6,20,6,22],[6,24,6,26],[6,28,6,30],[6,32,6,34],[6,36,6,38],[6,40,6,42],[6,44,6,46],[7,1,7,2],[7,5,7,6],[7,9,7,10],[7,13,7,14],[7,17,7,18],[7,21,7,22],[7,25,7,26],[7,29,7,30],[7,33,7,34],[7,37,7,38],[7,41,7,42],[7,45,7,46],[8,0,8,1],[8,4,8,5],[8,8,8,9],[8,12,8,13],[8,16,8,17],[8,20,8,21],[8,24,8,25],[8,28,8,29],[8,32,8,33],[8,36,8,37],[8,40,8,41],[8,44,8,45],[9,0,9,2],[9,4,9,6],[9,8,9,10],[9,12,9,14],[9,16,9,18],[9,20,9,22],[9,24,9,26],[9,28,9,30],[9,32,9,34],[9,36,9,38],[9,40,9,42],[9,44,9,46],[10,1,10,2],[10,5,10,6],[10,9,10,10],[10,13,10,14],[10,17,10,18],[10,21,10,22],[10,25,10,26],[10,29,10,30],[10,33,10,34],[10,37,10,38],[10,41,10,42],[10,45,10,46],[11,1,11,2],[11,5,11,6],[11,9,11,10],[11,13,11,14],[11,17,11,18],[11,21,11,22],[11,25,11,26],[11,29,11,30],[11,33,11,34],[11,37,11,38],[11,41,11,42],[11,45,11,46],[12,1,12,2],[12,5,12,6],[12,9,12,10],[12,13,12,14],[12,17,12,18],[12,21,12,22],[12,25,12,26],[12,29,12,30],[12,33,12,34],[12,37,12,38],[12,41,12,42],[12,45,12,46],[13,1,13,2],[13,5,13,6],[13,9,13,10],[13,13,13,14],[13,17,13,18],[13,21,13,22],[13,25,13,26],[13,29,13,30],[13,33,13,34],[13,37,13,38],[13,41,13,42],[13,45,13,46],[14,1,14,2],[14,5,14,6],[14,9,14,10],[14,13,14,14],[14,17,14,18],[14,21,14,22],[14,25,14,26],[14,29,14,30],[14,33,14,34],[14,37,14,38],[14,41,14,42],[14,45,14,46],[15,1,15,2],[15,5,15,6],[15,9,15,10],[15,13,15,14],[15,17,15,18],[15,21,15,22],[15,25,15,26],[15,29,15,30],[15,33,15,34],[15,37,15,38],[15,41,15,42],[15,45,15,46],[16,0,17,0],[16,1,17,2],[16,4,17,4],[16,5,17,6],[16,8,17,8],[16,9,17,10],[16,12,17,12],[16,13,17,14],[16,16,17,16],[16,17,17,18],[16,20,17,20],[16,21,17,22],[16,24,17,24],[16,25,17,26],[16,28,17,28],[16,29,17,30],[16,32,17,32],[16,33,17,34],[16,36,17,36],[16,37,17,38],[16,40,17,40],[16,41,17,42],[16,44,17,44],[16,45,17,46],[20,0,20,1],[21,0,25,2]]}
[]
[]
["Employment Specialist Name: "]
[]
[]
[]
["Week 1",{"$nulls":3},"Week 2",{"$nulls":3},"Week 3",{"$nulls":3},"Week 4",{"$nulls":3},"Week 5",{"$nulls":3},"Week 6",{"$nulls":3},"Week 7",{"$nulls":3},"Week 8",{"$nulls":3},"Week 9",{"$nulls":3},"Week 10",{"$nulls":3},"Week 11",{"$nulls":3},"Week 12"]
["Dates:",{"$nulls":3},"Dates:",{"$nulls":3},"Dates:",{"$nulls":3},"Dates:",{"$nulls":3},"Dates:",{"$nulls":3},"Dates:",{"$nulls":3},"Dates:",{"$nulls":3},"Dates:",{"$nulls":3},"Dates:",{"$nulls":3},"Dates:",{"$nulls":3},"Dates:",{"$nulls":3},"Dates:"]
["Number of working hours this week:",{"$nulls":3},"Number of working hours this week:",{"$nulls":3},"Number of working hours this week:",{"$nulls":3},"Number of working hours this week:",{"$nulls":3},"Number of working hours this week:",{"$nulls":3},"Number of working hours this week:",{"$nulls":3},"Number of working hours this week:",{"$nulls":3},"Number of working hours this week:",{"$nulls":3},"Number of working hours this week:",{"$nulls":3},"Number of working hours this week:",{"$nulls":3},"Number of working hours this week:",{"$nulls":3},"Number of working hours this week:"]
["Community hours conducted",{"$nulls":3},"Community hours conducted",{"$nulls":3},"Community hours conducted",{"$nulls":3},"Community hours conducted",{"$nulls":3},"Community hours conducted",{"$nulls":3},"Community hours conducted",{"$nulls":3},"Community hours conducted",{"$nulls":3},"Community hours conducted",{"$nulls":3},"Community hours conducted",{"$nulls":3},"Community hours conducted",{"$nulls":3},"Community hours conducted",{"$nulls":3},"Community hours conducted"]
["Monday",{"$nulls":3},"Monday",{"$nulls":3},"Monday",{"$nulls":3},"Monday",{"$nulls":3},"Monday",{"$nulls":3},"Monday",{"$nulls":3},"Monday",{"$nulls":3},"Monday",{"$nulls":3},"Monday",{"$nulls":3},"Monday",{"$nulls":3},"Monday",{"$nulls":3},"Monday"]
["Tuesday",{"$nulls":3},"Tuesday",{"$nulls":3},"Tuesday",{"$nulls":3},"Tuesday",{"$nulls":3},"Tuesday",{"$nulls":3},"Tuesday",{"$nulls":3},"Tuesday",{"$nulls":3},"Tuesday",{"$nulls":3},"Tuesday",{"$nulls":3},"Tuesday",{"$nulls":3},"Tuesday",{"$nulls":3},"Tuesday"]
["Wednesday ",{"$nulls":3},"Wednesday ",{"$nulls":3},"Wednesday ",{"$nulls":3},"Wednesday ",{"$nulls":3},"Wednesday ",{"$nulls":3},"Wednesday ",{"$nulls":3},"Wednesday ",{"$nulls":3},"Wednesday ",{"$nulls":3},"Wednesday ",{"$nulls":3},"Wednesday ",{"$nulls":3},"Wednesday ",{"$nulls":3},"Wednesday "]
["Thursday",{"$nulls":3},"Thursday",{"$nulls":3},"Thursday",{"$nulls":3},"Thursday",{"$nulls":3},"Thursday",{"$nulls":3},"Thursday",{"$nulls":3},"Thursday",{"$nulls":3},"Thursday",{"$nulls":3},"Thursday",{"$nulls":3},"Thursday",{"$nulls":3},"Thursday",{"$nulls":3},"Thursday"]
["Friday",{"$nulls":3},"Friday",{"$nulls":3},"Friday",{"$nulls":3},"Friday",{"$nulls":3},"Friday",{"$nulls":3},"Friday",{"$nulls":3},"Friday",{"$nulls":3},"Friday",{"$nulls":3},"Friday",{"$nulls":3},"Friday",{"$nulls":3},"Friday",{"$nulls":3},"Friday"]
["Total hours",{"$f":"SUM(B11:B15)","v":0},null,null,"Total hours",{"$f":"SUM(F11:F15)","v":0},null,null,"Total hours",{"$f":"SUM(J11:K15)","v":0},null,null,"Total hours",{"$f":"SUM(N11:O15)","v":0},null,null,"Total hours",{"$f":"SUM(R11:S15)","v":0},null,null,"Total hours",{"$f":"SUM(V11:W15)","v":0},null,null,"Total hours",{"$f":"SUM(Z11:AA15)","v":0},null,null,"Total hours",{"$f":"SUM(AD11:AE15)","v":0},null,null,"Total hours",{"$f":"SUM(AH11:AI15)","v":0},null,null,"Total hours",{"$f":"SUM(AL11:AM15)","v":0},null,null,"Total hours",{"$f":"SUM(AP11:AQ15)","v":0},null,null,"Total hours",{"$f":"SUM(AT11:AU15)","v":0}]
["% of time in community",{"$f":"SUM(B16/C9)","v":{"$error":"#DIV/0!"}},null,null,"% of time in community",{"$f":"SUM(F16/G9)","v":{"$error":"#DIV/0!"}},null,null,"% of time in community",{"$f":"SUM(J16/K9)","v":{"$error":"#DIV/0!"}},null,null,"% of time in community",{"$f":"SUM(N16/O9)","v":{"$error":"#DIV/0!"}},null,null,"% of time in community",{"$f":"SUM(R16/S9)","v":{"$error":"#DIV/0!"}},null,null,"% of time in community",{"$f":"SUM(V16/W9)","v":{"$error":"#DIV/0!"}},null,null,"% of time in community",{"$f":"SUM(Z16/AA9)","v":{"$error":"#DIV/0!"}},null,null,"% of time in community",{"$f":"SUM(AD16/AE9)","v":{"$error":"#DIV/0!"}},null,null,"% of time in community",{"$f":"SUM(AH16/AI9)","v":{"$error":"#DIV/0!"}},null,null,"% of time in community",{"$f":"SUM(AL16/AM9)","v":{"$error":"#DIV/0!"}},null,null,"% of time in community",{"$f":"SUM(AP16/AQ9)","v":{"$error":"#DIV/0!"}},null,null,"% of time in community",{"$f":"SUM(AT16/AU9)","v":{"$error":"#DIV/0!"}}]
[]
[]
[]
["Total Average time spent in the  community based on the weeks filled out",null,{"$f":"_xlfn.AGGREGATE(1,6,B17:AT17)","v":{"$error":"#DIV/0!"}}]
["Note: the above calculation will be impacted by any of the numbers put in the data entry cells above. Make sure that all data above is accurate before referencing to the final percentage "]